BEGIN:VCALENDAR
VERSION:2.0
PRODID:-//Bethel Bible Church - ECPv6.15.20//NONSGML v1.0//EN
CALSCALE:GREGORIAN
METHOD:PUBLISH
X-WR-CALNAME:Bethel Bible Church
X-ORIGINAL-URL:https://www.bethelbible.com
X-WR-CALDESC:Events for Bethel Bible Church
REFRESH-INTERVAL;VALUE=DURATION:PT1H
X-Robots-Tag:noindex
X-PUBLISHED-TTL:PT1H
BEGIN:VTIMEZONE
TZID:America/Chicago
BEGIN:DAYLIGHT
TZOFFSETFROM:-0600
TZOFFSETTO:-0500
TZNAME:CDT
DTSTART:20250309T080000
END:DAYLIGHT
BEGIN:STANDARD
TZOFFSETFROM:-0500
TZOFFSETTO:-0600
TZNAME:CST
DTSTART:20251102T070000
END:STANDARD
BEGIN:DAYLIGHT
TZOFFSETFROM:-0600
TZOFFSETTO:-0500
TZNAME:CDT
DTSTART:20260308T080000
END:DAYLIGHT
BEGIN:STANDARD
TZOFFSETFROM:-0500
TZOFFSETTO:-0600
TZNAME:CST
DTSTART:20261101T070000
END:STANDARD
BEGIN:DAYLIGHT
TZOFFSETFROM:-0600
TZOFFSETTO:-0500
TZNAME:CDT
DTSTART:20270314T080000
END:DAYLIGHT
BEGIN:STANDARD
TZOFFSETFROM:-0500
TZOFFSETTO:-0600
TZNAME:CST
DTSTART:20271107T070000
END:STANDARD
END:VTIMEZONE
BEGIN:VEVENT
DTSTART;TZID=America/Chicago:20260321T173000
DTEND;TZID=America/Chicago:20260321T190000
DTSTAMP:20260420T022323
CREATED:20260302T161823Z
LAST-MODIFIED:20260302T161823Z
UID:10002959-1774114200-1774119600@www.bethelbible.com
SUMMARY:Hope Students: Food and Faith
DESCRIPTION:Food and Faith is a time for our students to have fun and fellowship outside of church! There will be food and games\, but there will also be an opportunity to grow closer together in Christ. Text Blake at (903) 952-0669 for more details and to RSVP!
URL:https://www.bethelbible.com/event/hope-students-food-and-faith/
CATEGORIES:Hope Campus
END:VEVENT
END:VCALENDAR