BEGIN:VCALENDAR
VERSION:2.0
PRODID:-//Bethel Bible Church - ECPv6.15.20//NONSGML v1.0//EN
CALSCALE:GREGORIAN
METHOD:PUBLISH
X-WR-CALNAME:Bethel Bible Church
X-ORIGINAL-URL:https://www.bethelbible.com
X-WR-CALDESC:Events for Bethel Bible Church
REFRESH-INTERVAL;VALUE=DURATION:PT1H
X-Robots-Tag:noindex
X-PUBLISHED-TTL:PT1H
BEGIN:VTIMEZONE
TZID:America/Chicago
BEGIN:DAYLIGHT
TZOFFSETFROM:-0600
TZOFFSETTO:-0500
TZNAME:CDT
DTSTART:20250309T080000
END:DAYLIGHT
BEGIN:STANDARD
TZOFFSETFROM:-0500
TZOFFSETTO:-0600
TZNAME:CST
DTSTART:20251102T070000
END:STANDARD
BEGIN:DAYLIGHT
TZOFFSETFROM:-0600
TZOFFSETTO:-0500
TZNAME:CDT
DTSTART:20260308T080000
END:DAYLIGHT
BEGIN:STANDARD
TZOFFSETFROM:-0500
TZOFFSETTO:-0600
TZNAME:CST
DTSTART:20261101T070000
END:STANDARD
BEGIN:DAYLIGHT
TZOFFSETFROM:-0600
TZOFFSETTO:-0500
TZNAME:CDT
DTSTART:20270314T080000
END:DAYLIGHT
BEGIN:STANDARD
TZOFFSETFROM:-0500
TZOFFSETTO:-0600
TZNAME:CST
DTSTART:20271107T070000
END:STANDARD
END:VTIMEZONE
BEGIN:VEVENT
DTSTART;TZID=America/Chicago:20260401T173000
DTEND;TZID=America/Chicago:20260401T193000
DTSTAMP:20260420T005458
CREATED:20250813T183018Z
LAST-MODIFIED:20250813T183018Z
UID:10002730-1775064600-1775071800@www.bethelbible.com
SUMMARY:Hope: Hope in the Word
DESCRIPTION:Join us for Hope In The Word! An optional meal ($5 a person 6th grade and up\, 5th and below eat free) will be served at 5:45 PM\, and the study will start at 6:15 PM. \n-To register for the meal\, text â€œHOPEDINNERâ€ to (903) 437-4437 orÂ CLICK HERE \n-To register for childcare\, please text â€œHOPECHILDCAREâ€ to (903) 437-4437 or CLICK HERE \nQuestions? Email Victor atÂ victor@bethelbible.com
URL:https://www.bethelbible.com/event/hope-hope-in-the-word/2026-04-01/
LOCATION:Bethel Hope\, 504 W 32nd Street\, Tyler\, TX\, 75702\, United States
CATEGORIES:Hope Campus
END:VEVENT
END:VCALENDAR