BEGIN:VCALENDAR
VERSION:2.0
PRODID:-//Bethel Bible Church - ECPv6.15.20//NONSGML v1.0//EN
CALSCALE:GREGORIAN
METHOD:PUBLISH
X-ORIGINAL-URL:https://www.bethelbible.com
X-WR-CALDESC:Events for Bethel Bible Church
REFRESH-INTERVAL;VALUE=DURATION:PT1H
X-Robots-Tag:noindex
X-PUBLISHED-TTL:PT1H
BEGIN:VTIMEZONE
TZID:America/Chicago
BEGIN:DAYLIGHT
TZOFFSETFROM:-0600
TZOFFSETTO:-0500
TZNAME:CDT
DTSTART:20250309T080000
END:DAYLIGHT
BEGIN:STANDARD
TZOFFSETFROM:-0500
TZOFFSETTO:-0600
TZNAME:CST
DTSTART:20251102T070000
END:STANDARD
BEGIN:DAYLIGHT
TZOFFSETFROM:-0600
TZOFFSETTO:-0500
TZNAME:CDT
DTSTART:20260308T080000
END:DAYLIGHT
BEGIN:STANDARD
TZOFFSETFROM:-0500
TZOFFSETTO:-0600
TZNAME:CST
DTSTART:20261101T070000
END:STANDARD
BEGIN:DAYLIGHT
TZOFFSETFROM:-0600
TZOFFSETTO:-0500
TZNAME:CDT
DTSTART:20270314T080000
END:DAYLIGHT
BEGIN:STANDARD
TZOFFSETFROM:-0500
TZOFFSETTO:-0600
TZNAME:CST
DTSTART:20271107T070000
END:STANDARD
END:VTIMEZONE
BEGIN:VEVENT
DTSTART;TZID=America/Chicago:20260403T180000
DTEND;TZID=America/Chicago:20260403T190000
DTSTAMP:20260420T005718
CREATED:20260323T192803Z
LAST-MODIFIED:20260323T192803Z
UID:10002963-1775239200-1775242800@www.bethelbible.com
SUMMARY:Downtown: Good Friday Service
DESCRIPTION:GOOD FRIDAY SERVICE | APRIL 3RD | BETHEL BIBLE DOWNTOWN\n6 PM | 3rd Floor | Family Service
URL:https://www.bethelbible.com/event/downtown-good-friday-service/
LOCATION:Bethel Downtown\, 202 South Broadway Avenue\, Tyler\, TX\, 75702\, United States
CATEGORIES:Downtown Campus
GEO:32.3493789;-95.3002841
X-APPLE-STRUCTURED-LOCATION;VALUE=URI;X-ADDRESS=Bethel Downtown 202 South Broadway Avenue Tyler TX 75702 United States;X-APPLE-RADIUS=500;X-TITLE=202 South Broadway Avenue:geo:-95.3002841,32.3493789
END:VEVENT
BEGIN:VEVENT
DTSTART;TZID=America/Chicago:20260403T180000
DTEND;TZID=America/Chicago:20260403T190000
DTSTAMP:20260420T005718
CREATED:20260323T192858Z
LAST-MODIFIED:20260323T192926Z
UID:10002964-1775239200-1775242800@www.bethelbible.com
SUMMARY:South: Good Friday Service
DESCRIPTION:GOOD FRIDAY SERVICE | APRIL 3RD | BETHEL SOUTH\n6 PM | Sanctuary | Family Worship Service\nChildcare available for 2 and under
URL:https://www.bethelbible.com/event/south-good-friday-service/
LOCATION:Bethel South Campus\, 17121 Hwy 69 South\, Tyler\, TX\, 75703\, United States
CATEGORIES:South Campus
GEO:32.231484;-95.3099529
X-APPLE-STRUCTURED-LOCATION;VALUE=URI;X-ADDRESS=Bethel South Campus 17121 Hwy 69 South Tyler TX 75703 United States;X-APPLE-RADIUS=500;X-TITLE=17121 Hwy 69 South:geo:-95.3099529,32.231484
END:VEVENT
END:VCALENDAR