BEGIN:VCALENDAR
VERSION:2.0
PRODID:-//Bethel Bible Church - ECPv6.15.20//NONSGML v1.0//EN
CALSCALE:GREGORIAN
METHOD:PUBLISH
X-WR-CALNAME:Bethel Bible Church
X-ORIGINAL-URL:https://www.bethelbible.com
X-WR-CALDESC:Events for Bethel Bible Church
REFRESH-INTERVAL;VALUE=DURATION:PT1H
X-Robots-Tag:noindex
X-PUBLISHED-TTL:PT1H
BEGIN:VTIMEZONE
TZID:America/Chicago
BEGIN:DAYLIGHT
TZOFFSETFROM:-0600
TZOFFSETTO:-0500
TZNAME:CDT
DTSTART:20250309T080000
END:DAYLIGHT
BEGIN:STANDARD
TZOFFSETFROM:-0500
TZOFFSETTO:-0600
TZNAME:CST
DTSTART:20251102T070000
END:STANDARD
BEGIN:DAYLIGHT
TZOFFSETFROM:-0600
TZOFFSETTO:-0500
TZNAME:CDT
DTSTART:20260308T080000
END:DAYLIGHT
BEGIN:STANDARD
TZOFFSETFROM:-0500
TZOFFSETTO:-0600
TZNAME:CST
DTSTART:20261101T070000
END:STANDARD
BEGIN:DAYLIGHT
TZOFFSETFROM:-0600
TZOFFSETTO:-0500
TZNAME:CDT
DTSTART:20270314T080000
END:DAYLIGHT
BEGIN:STANDARD
TZOFFSETFROM:-0500
TZOFFSETTO:-0600
TZNAME:CST
DTSTART:20271107T070000
END:STANDARD
END:VTIMEZONE
BEGIN:VEVENT
DTSTART;TZID=America/Chicago:20260415T173000
DTEND;TZID=America/Chicago:20260415T193000
DTSTAMP:20260420T005534
CREATED:20250813T183018Z
LAST-MODIFIED:20250813T183018Z
UID:10002732-1776274200-1776281400@www.bethelbible.com
SUMMARY:Hope: Hope in the Word
DESCRIPTION:Join us for Hope In The Word! An optional meal ($5 a person 6th grade and up\, 5th and below eat free) will be served at 5:45 PM\, and the study will start at 6:15 PM. \n-To register for the meal\, text â€œHOPEDINNERâ€ to (903) 437-4437 orÂ CLICK HERE \n-To register for childcare\, please text â€œHOPECHILDCAREâ€ to (903) 437-4437 or CLICK HERE \nQuestions? Email Victor atÂ victor@bethelbible.com
URL:https://www.bethelbible.com/event/hope-hope-in-the-word/2026-04-15/
LOCATION:Bethel Hope\, 504 W 32nd Street\, Tyler\, TX\, 75702\, United States
CATEGORIES:Hope Campus
END:VEVENT
BEGIN:VEVENT
DTSTART;TZID=America/Chicago:20260415T180000
DTEND;TZID=America/Chicago:20260415T183000
DTSTAMP:20260420T005534
CREATED:20251210T174315Z
LAST-MODIFIED:20251210T174359Z
UID:10002937-1776276000-1776277800@www.bethelbible.com
SUMMARY:South: MidWeek Meal
DESCRIPTION:We’re excited to offer a Wednesday Night Meal! Please register below so we know how much food to prepare. We will meet at 6 PM each Wednesday in the Sanctuary. Please register each week! Please RSVP by Monday at 12:30 PM! \nTo register  CLICK HERE \nMidWeek Kids\nNursery-age-5th-grade children are invited to participate in Midweek Kids at 6:30 PM! Please register your child by clicking here OR by clicking the link after you register for the MidWeek Meal. \nIf you need to cancel your registration or have any questions\, please contact Shelby Skiles at  shelby@bethelbible.com.
URL:https://www.bethelbible.com/event/south-midweek-meal-4/2026-04-15/
LOCATION:Bethel South Campus\, 17121 Hwy 69 South\, Tyler\, TX\, 75703\, United States
GEO:32.231484;-95.3099529
X-APPLE-STRUCTURED-LOCATION;VALUE=URI;X-ADDRESS=Bethel South Campus 17121 Hwy 69 South Tyler TX 75703 United States;X-APPLE-RADIUS=500;X-TITLE=17121 Hwy 69 South:geo:-95.3099529,32.231484
END:VEVENT
BEGIN:VEVENT
DTSTART;TZID=America/Chicago:20260415T183000
DTEND;TZID=America/Chicago:20260415T200000
DTSTAMP:20260420T005534
CREATED:20251208T183938Z
LAST-MODIFIED:20251208T184129Z
UID:10002909-1776277800-1776283200@www.bethelbible.com
SUMMARY:South: Crown Financial Class
DESCRIPTION:Crown is a 10-week Biblical Financial Study offered at MidWeek at the South Campus this Spring\, beginning January 14th. The course is facilitator-led\, and each week’s lesson has two components – an in-depth Bible study on that week’s topic and hands-on financial exercises. The participants will be guided to apply newly gained wisdom to their personal lives and finances. The teaching strategy used in this study treats more than the symptoms of financial bondage – it creates a long-term transformation of the heart. This is the most effective way to find biblically based answers to one’s financial questions and difficulties. Questions? Please email Chad at chad@bethelbible.com. \nTo register text “CROWN” to (903) 437-4437 or CLICK HERE
URL:https://www.bethelbible.com/event/south-crown-financial-class/2026-04-15/
LOCATION:Bethel South Campus\, 17121 Hwy 69 South\, Tyler\, TX\, 75703\, United States
CATEGORIES:South Campus
GEO:32.231484;-95.3099529
X-APPLE-STRUCTURED-LOCATION;VALUE=URI;X-ADDRESS=Bethel South Campus 17121 Hwy 69 South Tyler TX 75703 United States;X-APPLE-RADIUS=500;X-TITLE=17121 Hwy 69 South:geo:-95.3099529,32.231484
END:VEVENT
END:VCALENDAR