BEGIN:VCALENDAR
VERSION:2.0
PRODID:-//Bethel Bible Church - ECPv6.15.20//NONSGML v1.0//EN
CALSCALE:GREGORIAN
METHOD:PUBLISH
X-WR-CALNAME:Bethel Bible Church
X-ORIGINAL-URL:https://www.bethelbible.com
X-WR-CALDESC:Events for Bethel Bible Church
REFRESH-INTERVAL;VALUE=DURATION:PT1H
X-Robots-Tag:noindex
X-PUBLISHED-TTL:PT1H
BEGIN:VTIMEZONE
TZID:America/Chicago
BEGIN:DAYLIGHT
TZOFFSETFROM:-0600
TZOFFSETTO:-0500
TZNAME:CDT
DTSTART:20250309T080000
END:DAYLIGHT
BEGIN:STANDARD
TZOFFSETFROM:-0500
TZOFFSETTO:-0600
TZNAME:CST
DTSTART:20251102T070000
END:STANDARD
BEGIN:DAYLIGHT
TZOFFSETFROM:-0600
TZOFFSETTO:-0500
TZNAME:CDT
DTSTART:20260308T080000
END:DAYLIGHT
BEGIN:STANDARD
TZOFFSETFROM:-0500
TZOFFSETTO:-0600
TZNAME:CST
DTSTART:20261101T070000
END:STANDARD
BEGIN:DAYLIGHT
TZOFFSETFROM:-0600
TZOFFSETTO:-0500
TZNAME:CDT
DTSTART:20270314T080000
END:DAYLIGHT
BEGIN:STANDARD
TZOFFSETFROM:-0500
TZOFFSETTO:-0600
TZNAME:CST
DTSTART:20271107T070000
END:STANDARD
END:VTIMEZONE
BEGIN:VEVENT
DTSTART;TZID=America/Chicago:20260425T150000
DTEND;TZID=America/Chicago:20260425T170000
DTSTAMP:20260420T005535
CREATED:20260330T194305Z
LAST-MODIFIED:20260330T194305Z
UID:10002966-1777129200-1777136400@www.bethelbible.com
SUMMARY:South: Men's Texas Hold'em Tournament
DESCRIPTION:Men\, join us for a Texas Hold’em Tournament on Saturday\, April 25th at 3 PM! There is an optional $20 buy-in. Winner donates proceeds to one of Bethel’s local or global ministry partners. This is a great way to hang out and get to know other men at Bethel. Questions? Please email Chad Bradley at chad@bethelbible.com. \nTo register\, CLICK HERE
URL:https://www.bethelbible.com/event/south-mens-texas-holdem-tournament/
CATEGORIES:South Campus
END:VEVENT
END:VCALENDAR