BEGIN:VCALENDAR
VERSION:2.0
PRODID:-//Bethel Bible Church - ECPv6.15.20//NONSGML v1.0//EN
CALSCALE:GREGORIAN
METHOD:PUBLISH
X-WR-CALNAME:Bethel Bible Church
X-ORIGINAL-URL:https://www.bethelbible.com
X-WR-CALDESC:Events for Bethel Bible Church
REFRESH-INTERVAL;VALUE=DURATION:PT1H
X-Robots-Tag:noindex
X-PUBLISHED-TTL:PT1H
BEGIN:VTIMEZONE
TZID:America/Chicago
BEGIN:DAYLIGHT
TZOFFSETFROM:-0600
TZOFFSETTO:-0500
TZNAME:CDT
DTSTART:20250309T080000
END:DAYLIGHT
BEGIN:STANDARD
TZOFFSETFROM:-0500
TZOFFSETTO:-0600
TZNAME:CST
DTSTART:20251102T070000
END:STANDARD
BEGIN:DAYLIGHT
TZOFFSETFROM:-0600
TZOFFSETTO:-0500
TZNAME:CDT
DTSTART:20260308T080000
END:DAYLIGHT
BEGIN:STANDARD
TZOFFSETFROM:-0500
TZOFFSETTO:-0600
TZNAME:CST
DTSTART:20261101T070000
END:STANDARD
BEGIN:DAYLIGHT
TZOFFSETFROM:-0600
TZOFFSETTO:-0500
TZNAME:CDT
DTSTART:20270314T080000
END:DAYLIGHT
BEGIN:STANDARD
TZOFFSETFROM:-0500
TZOFFSETTO:-0600
TZNAME:CST
DTSTART:20271107T070000
END:STANDARD
END:VTIMEZONE
BEGIN:VEVENT
DTSTART;TZID=America/Chicago:20260426T100000
DTEND;TZID=America/Chicago:20260426T223000
DTSTAMP:20260420T005533
CREATED:20260310T184004Z
LAST-MODIFIED:20260310T184004Z
UID:10002961-1777197600-1777242600@www.bethelbible.com
SUMMARY:South: Baptism
DESCRIPTION:Baptism will take place on Sunday\, April 26th\, between the 1st and 2nd service at 10:15 AM. We will also have a required Baptism Orientation on Sunday\, April 19th\, during the second service at 10:30 AM in room C203. To register CLICK HERE. \nIf you have any questions\, please email Chad Bradley at chad@bethelbible.com.
URL:https://www.bethelbible.com/event/south-baptism-2/
LOCATION:Bethel South Campus\, 17121 Hwy 69 South\, Tyler\, TX\, 75703\, United States
CATEGORIES:South Campus
GEO:32.231484;-95.3099529
X-APPLE-STRUCTURED-LOCATION;VALUE=URI;X-ADDRESS=Bethel South Campus 17121 Hwy 69 South Tyler TX 75703 United States;X-APPLE-RADIUS=500;X-TITLE=17121 Hwy 69 South:geo:-95.3099529,32.231484
END:VEVENT
BEGIN:VEVENT
DTSTART;TZID=America/Chicago:20260426T150000
DTEND;TZID=America/Chicago:20260426T170000
DTSTAMP:20260420T005533
CREATED:20251208T184454Z
LAST-MODIFIED:20251208T184454Z
UID:10002921-1777215600-1777222800@www.bethelbible.com
SUMMARY:GriefShare
DESCRIPTION:GriefShare is a supportive\, caring group created to help you navigate the grief journey—one step at a time. This group will meet at the South Campus in room C212 on Sunday afternoons from 3-5 PM starting February 15th. Over the course of 12 weeks\, in this safe and welcoming environment\, you’ll receive practical guidance and compassionate encouragement as you move toward healing\, comfort\, and peace of mind under the guidance of the group facilitators\, Greg and Marilyn Stovall. To learn more and register for this group\, please CLICK HERE. Questions? Please email mkcnbt@gmail.com.
URL:https://www.bethelbible.com/event/griefshare/2026-04-26/
LOCATION:Bethel South Campus\, 17121 Hwy 69 South\, Tyler\, TX\, 75703\, United States
GEO:32.231484;-95.3099529
X-APPLE-STRUCTURED-LOCATION;VALUE=URI;X-ADDRESS=Bethel South Campus 17121 Hwy 69 South Tyler TX 75703 United States;X-APPLE-RADIUS=500;X-TITLE=17121 Hwy 69 South:geo:-95.3099529,32.231484
END:VEVENT
END:VCALENDAR