BEGIN:VCALENDAR
VERSION:2.0
PRODID:-//Bethel Bible Church - ECPv6.15.20//NONSGML v1.0//EN
CALSCALE:GREGORIAN
METHOD:PUBLISH
X-ORIGINAL-URL:https://www.bethelbible.com
X-WR-CALDESC:Events for Bethel Bible Church
REFRESH-INTERVAL;VALUE=DURATION:PT1H
X-Robots-Tag:noindex
X-PUBLISHED-TTL:PT1H
BEGIN:VTIMEZONE
TZID:America/Chicago
BEGIN:DAYLIGHT
TZOFFSETFROM:-0600
TZOFFSETTO:-0500
TZNAME:CDT
DTSTART:20250309T080000
END:DAYLIGHT
BEGIN:STANDARD
TZOFFSETFROM:-0500
TZOFFSETTO:-0600
TZNAME:CST
DTSTART:20251102T070000
END:STANDARD
BEGIN:DAYLIGHT
TZOFFSETFROM:-0600
TZOFFSETTO:-0500
TZNAME:CDT
DTSTART:20260308T080000
END:DAYLIGHT
BEGIN:STANDARD
TZOFFSETFROM:-0500
TZOFFSETTO:-0600
TZNAME:CST
DTSTART:20261101T070000
END:STANDARD
BEGIN:DAYLIGHT
TZOFFSETFROM:-0600
TZOFFSETTO:-0500
TZNAME:CDT
DTSTART:20270314T080000
END:DAYLIGHT
BEGIN:STANDARD
TZOFFSETFROM:-0500
TZOFFSETTO:-0600
TZNAME:CST
DTSTART:20271107T070000
END:STANDARD
END:VTIMEZONE
BEGIN:VEVENT
DTSTART;TZID=America/Chicago:20260610T173000
DTEND;TZID=America/Chicago:20260610T193000
DTSTAMP:20260422T061810
CREATED:20250813T183018Z
LAST-MODIFIED:20250813T183018Z
UID:10002740-1781112600-1781119800@www.bethelbible.com
SUMMARY:Hope: Hope in the Word
DESCRIPTION:Join us for Hope In The Word! An optional meal ($5 a person 6th grade and up\, 5th and below eat free) will be served at 5:45 PM\, and the study will start at 6:15 PM. \n-To register for the meal\, text â€œHOPEDINNERâ€ to (903) 437-4437 orÂ CLICK HERE \n-To register for childcare\, please text â€œHOPECHILDCAREâ€ to (903) 437-4437 or CLICK HERE \nQuestions? Email Victor atÂ victor@bethelbible.com
URL:https://www.bethelbible.com/event/hope-hope-in-the-word/2026-06-10/
LOCATION:Bethel Hope\, 504 W 32nd Street\, Tyler\, TX\, 75702\, United States
CATEGORIES:Hope Campus
END:VEVENT
BEGIN:VEVENT
DTSTART;TZID=America/Chicago:20260610T180000
DTEND;TZID=America/Chicago:20260610T193000
DTSTAMP:20260422T061810
CREATED:20260420T161945Z
LAST-MODIFIED:20260420T161945Z
UID:10002968-1781114400-1781119800@www.bethelbible.com
SUMMARY:South: Discover Bethel
DESCRIPTION:New to Bethel? or Want to Know More?\nIf you are wondering how to find out more about Bethel\, how to get involved\, or what membership means\, Discover Bethel is your next step. We’d love for you to join us at our next Discover Bethel for the South Campus! \nWe will meet on Wednesday\, June 10\, at 6 PM at the South Campus in the Theater. Meal and childcare (up to 12 years old) are provided.  To register\, text “DISCOVER” to (903) 437-4437 or CLICK HERE.  \nQuestions? Please email Chad Bradley at chad@bethelbible.com.
URL:https://www.bethelbible.com/event/south-discover-bethel/
LOCATION:Bethel South Campus\, 17121 Hwy 69 South\, Tyler\, TX\, 75703\, United States
CATEGORIES:South Campus
GEO:32.231484;-95.3099529
X-APPLE-STRUCTURED-LOCATION;VALUE=URI;X-ADDRESS=Bethel South Campus 17121 Hwy 69 South Tyler TX 75703 United States;X-APPLE-RADIUS=500;X-TITLE=17121 Hwy 69 South:geo:-95.3099529,32.231484
END:VEVENT
BEGIN:VEVENT
DTSTART;TZID=America/Chicago:20260614T183000
DTEND;TZID=America/Chicago:20260614T190000
DTSTAMP:20260422T061810
CREATED:20240911T175213Z
LAST-MODIFIED:20240911T175224Z
UID:10002246-1781461800-1781463600@www.bethelbible.com
SUMMARY:Hope: Women of Hope Prayer Time
DESCRIPTION:Women of Hope Prayer TimeÂ  \nWomen\, join us for a time of prayer on the 2nd Sunday of each month at 6:30 PM on the Hope campus. No registration required.
URL:https://www.bethelbible.com/event/hope-women-of-hope-prayer-time/2026-06-14/
LOCATION:Bethel Hope\, 504 W 32nd Street\, Tyler\, TX\, 75702\, United States
CATEGORIES:Hope Campus
END:VEVENT
BEGIN:VEVENT
DTSTART;TZID=America/Chicago:20260617T173000
DTEND;TZID=America/Chicago:20260617T193000
DTSTAMP:20260422T061810
CREATED:20250813T183018Z
LAST-MODIFIED:20250813T183018Z
UID:10002741-1781717400-1781724600@www.bethelbible.com
SUMMARY:Hope: Hope in the Word
DESCRIPTION:Join us for Hope In The Word! An optional meal ($5 a person 6th grade and up\, 5th and below eat free) will be served at 5:45 PM\, and the study will start at 6:15 PM. \n-To register for the meal\, text â€œHOPEDINNERâ€ to (903) 437-4437 orÂ CLICK HERE \n-To register for childcare\, please text â€œHOPECHILDCAREâ€ to (903) 437-4437 or CLICK HERE \nQuestions? Email Victor atÂ victor@bethelbible.com
URL:https://www.bethelbible.com/event/hope-hope-in-the-word/2026-06-17/
LOCATION:Bethel Hope\, 504 W 32nd Street\, Tyler\, TX\, 75702\, United States
CATEGORIES:Hope Campus
END:VEVENT
BEGIN:VEVENT
DTSTART;TZID=America/Chicago:20260624T173000
DTEND;TZID=America/Chicago:20260624T193000
DTSTAMP:20260422T061810
CREATED:20250813T183018Z
LAST-MODIFIED:20250813T183018Z
UID:10002742-1782322200-1782329400@www.bethelbible.com
SUMMARY:Hope: Hope in the Word
DESCRIPTION:Join us for Hope In The Word! An optional meal ($5 a person 6th grade and up\, 5th and below eat free) will be served at 5:45 PM\, and the study will start at 6:15 PM. \n-To register for the meal\, text â€œHOPEDINNERâ€ to (903) 437-4437 orÂ CLICK HERE \n-To register for childcare\, please text â€œHOPECHILDCAREâ€ to (903) 437-4437 or CLICK HERE \nQuestions? Email Victor atÂ victor@bethelbible.com
URL:https://www.bethelbible.com/event/hope-hope-in-the-word/2026-06-24/
LOCATION:Bethel Hope\, 504 W 32nd Street\, Tyler\, TX\, 75702\, United States
CATEGORIES:Hope Campus
END:VEVENT
BEGIN:VEVENT
DTSTART;TZID=America/Chicago:20260701T173000
DTEND;TZID=America/Chicago:20260701T193000
DTSTAMP:20260422T061810
CREATED:20250813T183018Z
LAST-MODIFIED:20250813T183018Z
UID:10002743-1782927000-1782934200@www.bethelbible.com
SUMMARY:Hope: Hope in the Word
DESCRIPTION:Join us for Hope In The Word! An optional meal ($5 a person 6th grade and up\, 5th and below eat free) will be served at 5:45 PM\, and the study will start at 6:15 PM. \n-To register for the meal\, text â€œHOPEDINNERâ€ to (903) 437-4437 orÂ CLICK HERE \n-To register for childcare\, please text â€œHOPECHILDCAREâ€ to (903) 437-4437 or CLICK HERE \nQuestions? Email Victor atÂ victor@bethelbible.com
URL:https://www.bethelbible.com/event/hope-hope-in-the-word/2026-07-01/
LOCATION:Bethel Hope\, 504 W 32nd Street\, Tyler\, TX\, 75702\, United States
CATEGORIES:Hope Campus
END:VEVENT
BEGIN:VEVENT
DTSTART;TZID=America/Chicago:20260708T173000
DTEND;TZID=America/Chicago:20260708T193000
DTSTAMP:20260422T061810
CREATED:20250813T183018Z
LAST-MODIFIED:20250813T183018Z
UID:10002744-1783531800-1783539000@www.bethelbible.com
SUMMARY:Hope: Hope in the Word
DESCRIPTION:Join us for Hope In The Word! An optional meal ($5 a person 6th grade and up\, 5th and below eat free) will be served at 5:45 PM\, and the study will start at 6:15 PM. \n-To register for the meal\, text â€œHOPEDINNERâ€ to (903) 437-4437 orÂ CLICK HERE \n-To register for childcare\, please text â€œHOPECHILDCAREâ€ to (903) 437-4437 or CLICK HERE \nQuestions? Email Victor atÂ victor@bethelbible.com
URL:https://www.bethelbible.com/event/hope-hope-in-the-word/2026-07-08/
LOCATION:Bethel Hope\, 504 W 32nd Street\, Tyler\, TX\, 75702\, United States
CATEGORIES:Hope Campus
END:VEVENT
BEGIN:VEVENT
DTSTART;TZID=America/Chicago:20260712T183000
DTEND;TZID=America/Chicago:20260712T190000
DTSTAMP:20260422T061810
CREATED:20240911T175213Z
LAST-MODIFIED:20240911T175224Z
UID:10002247-1783881000-1783882800@www.bethelbible.com
SUMMARY:Hope: Women of Hope Prayer Time
DESCRIPTION:Women of Hope Prayer TimeÂ  \nWomen\, join us for a time of prayer on the 2nd Sunday of each month at 6:30 PM on the Hope campus. No registration required.
URL:https://www.bethelbible.com/event/hope-women-of-hope-prayer-time/2026-07-12/
LOCATION:Bethel Hope\, 504 W 32nd Street\, Tyler\, TX\, 75702\, United States
CATEGORIES:Hope Campus
END:VEVENT
BEGIN:VEVENT
DTSTART;TZID=America/Chicago:20260715T173000
DTEND;TZID=America/Chicago:20260715T193000
DTSTAMP:20260422T061810
CREATED:20250813T183018Z
LAST-MODIFIED:20250813T183018Z
UID:10002745-1784136600-1784143800@www.bethelbible.com
SUMMARY:Hope: Hope in the Word
DESCRIPTION:Join us for Hope In The Word! An optional meal ($5 a person 6th grade and up\, 5th and below eat free) will be served at 5:45 PM\, and the study will start at 6:15 PM. \n-To register for the meal\, text â€œHOPEDINNERâ€ to (903) 437-4437 orÂ CLICK HERE \n-To register for childcare\, please text â€œHOPECHILDCAREâ€ to (903) 437-4437 or CLICK HERE \nQuestions? Email Victor atÂ victor@bethelbible.com
URL:https://www.bethelbible.com/event/hope-hope-in-the-word/2026-07-15/
LOCATION:Bethel Hope\, 504 W 32nd Street\, Tyler\, TX\, 75702\, United States
CATEGORIES:Hope Campus
END:VEVENT
BEGIN:VEVENT
DTSTART;TZID=America/Chicago:20260722T173000
DTEND;TZID=America/Chicago:20260722T193000
DTSTAMP:20260422T061810
CREATED:20250813T183018Z
LAST-MODIFIED:20250813T183018Z
UID:10002746-1784741400-1784748600@www.bethelbible.com
SUMMARY:Hope: Hope in the Word
DESCRIPTION:Join us for Hope In The Word! An optional meal ($5 a person 6th grade and up\, 5th and below eat free) will be served at 5:45 PM\, and the study will start at 6:15 PM. \n-To register for the meal\, text â€œHOPEDINNERâ€ to (903) 437-4437 orÂ CLICK HERE \n-To register for childcare\, please text â€œHOPECHILDCAREâ€ to (903) 437-4437 or CLICK HERE \nQuestions? Email Victor atÂ victor@bethelbible.com
URL:https://www.bethelbible.com/event/hope-hope-in-the-word/2026-07-22/
LOCATION:Bethel Hope\, 504 W 32nd Street\, Tyler\, TX\, 75702\, United States
CATEGORIES:Hope Campus
END:VEVENT
BEGIN:VEVENT
DTSTART;TZID=America/Chicago:20260729T173000
DTEND;TZID=America/Chicago:20260729T193000
DTSTAMP:20260422T061810
CREATED:20250813T183018Z
LAST-MODIFIED:20250813T183018Z
UID:10002747-1785346200-1785353400@www.bethelbible.com
SUMMARY:Hope: Hope in the Word
DESCRIPTION:Join us for Hope In The Word! An optional meal ($5 a person 6th grade and up\, 5th and below eat free) will be served at 5:45 PM\, and the study will start at 6:15 PM. \n-To register for the meal\, text â€œHOPEDINNERâ€ to (903) 437-4437 orÂ CLICK HERE \n-To register for childcare\, please text â€œHOPECHILDCAREâ€ to (903) 437-4437 or CLICK HERE \nQuestions? Email Victor atÂ victor@bethelbible.com
URL:https://www.bethelbible.com/event/hope-hope-in-the-word/2026-07-29/
LOCATION:Bethel Hope\, 504 W 32nd Street\, Tyler\, TX\, 75702\, United States
CATEGORIES:Hope Campus
END:VEVENT
BEGIN:VEVENT
DTSTART;TZID=America/Chicago:20260805T173000
DTEND;TZID=America/Chicago:20260805T193000
DTSTAMP:20260422T061810
CREATED:20250813T183018Z
LAST-MODIFIED:20250813T183018Z
UID:10002748-1785951000-1785958200@www.bethelbible.com
SUMMARY:Hope: Hope in the Word
DESCRIPTION:Join us for Hope In The Word! An optional meal ($5 a person 6th grade and up\, 5th and below eat free) will be served at 5:45 PM\, and the study will start at 6:15 PM. \n-To register for the meal\, text â€œHOPEDINNERâ€ to (903) 437-4437 orÂ CLICK HERE \n-To register for childcare\, please text â€œHOPECHILDCAREâ€ to (903) 437-4437 or CLICK HERE \nQuestions? Email Victor atÂ victor@bethelbible.com
URL:https://www.bethelbible.com/event/hope-hope-in-the-word/2026-08-05/
LOCATION:Bethel Hope\, 504 W 32nd Street\, Tyler\, TX\, 75702\, United States
CATEGORIES:Hope Campus
END:VEVENT
BEGIN:VEVENT
DTSTART;TZID=America/Chicago:20260809T183000
DTEND;TZID=America/Chicago:20260809T190000
DTSTAMP:20260422T061810
CREATED:20240911T175213Z
LAST-MODIFIED:20240911T175224Z
UID:10002248-1786300200-1786302000@www.bethelbible.com
SUMMARY:Hope: Women of Hope Prayer Time
DESCRIPTION:Women of Hope Prayer TimeÂ  \nWomen\, join us for a time of prayer on the 2nd Sunday of each month at 6:30 PM on the Hope campus. No registration required.
URL:https://www.bethelbible.com/event/hope-women-of-hope-prayer-time/2026-08-09/
LOCATION:Bethel Hope\, 504 W 32nd Street\, Tyler\, TX\, 75702\, United States
CATEGORIES:Hope Campus
END:VEVENT
BEGIN:VEVENT
DTSTART;TZID=America/Chicago:20260812T173000
DTEND;TZID=America/Chicago:20260812T193000
DTSTAMP:20260422T061810
CREATED:20250813T183018Z
LAST-MODIFIED:20250813T183018Z
UID:10002749-1786555800-1786563000@www.bethelbible.com
SUMMARY:Hope: Hope in the Word
DESCRIPTION:Join us for Hope In The Word! An optional meal ($5 a person 6th grade and up\, 5th and below eat free) will be served at 5:45 PM\, and the study will start at 6:15 PM. \n-To register for the meal\, text â€œHOPEDINNERâ€ to (903) 437-4437 orÂ CLICK HERE \n-To register for childcare\, please text â€œHOPECHILDCAREâ€ to (903) 437-4437 or CLICK HERE \nQuestions? Email Victor atÂ victor@bethelbible.com
URL:https://www.bethelbible.com/event/hope-hope-in-the-word/2026-08-12/
LOCATION:Bethel Hope\, 504 W 32nd Street\, Tyler\, TX\, 75702\, United States
CATEGORIES:Hope Campus
END:VEVENT
BEGIN:VEVENT
DTSTART;TZID=America/Chicago:20260819T173000
DTEND;TZID=America/Chicago:20260819T193000
DTSTAMP:20260422T061810
CREATED:20250813T183018Z
LAST-MODIFIED:20250813T183018Z
UID:10002750-1787160600-1787167800@www.bethelbible.com
SUMMARY:Hope: Hope in the Word
DESCRIPTION:Join us for Hope In The Word! An optional meal ($5 a person 6th grade and up\, 5th and below eat free) will be served at 5:45 PM\, and the study will start at 6:15 PM. \n-To register for the meal\, text â€œHOPEDINNERâ€ to (903) 437-4437 orÂ CLICK HERE \n-To register for childcare\, please text â€œHOPECHILDCAREâ€ to (903) 437-4437 or CLICK HERE \nQuestions? Email Victor atÂ victor@bethelbible.com
URL:https://www.bethelbible.com/event/hope-hope-in-the-word/2026-08-19/
LOCATION:Bethel Hope\, 504 W 32nd Street\, Tyler\, TX\, 75702\, United States
CATEGORIES:Hope Campus
END:VEVENT
BEGIN:VEVENT
DTSTART;TZID=America/Chicago:20260826T173000
DTEND;TZID=America/Chicago:20260826T193000
DTSTAMP:20260422T061810
CREATED:20250813T183018Z
LAST-MODIFIED:20250813T183018Z
UID:10002751-1787765400-1787772600@www.bethelbible.com
SUMMARY:Hope: Hope in the Word
DESCRIPTION:Join us for Hope In The Word! An optional meal ($5 a person 6th grade and up\, 5th and below eat free) will be served at 5:45 PM\, and the study will start at 6:15 PM. \n-To register for the meal\, text â€œHOPEDINNERâ€ to (903) 437-4437 orÂ CLICK HERE \n-To register for childcare\, please text â€œHOPECHILDCAREâ€ to (903) 437-4437 or CLICK HERE \nQuestions? Email Victor atÂ victor@bethelbible.com
URL:https://www.bethelbible.com/event/hope-hope-in-the-word/2026-08-26/
LOCATION:Bethel Hope\, 504 W 32nd Street\, Tyler\, TX\, 75702\, United States
CATEGORIES:Hope Campus
END:VEVENT
BEGIN:VEVENT
DTSTART;TZID=America/Chicago:20260902T173000
DTEND;TZID=America/Chicago:20260902T193000
DTSTAMP:20260422T061810
CREATED:20250813T183018Z
LAST-MODIFIED:20250813T183018Z
UID:10002752-1788370200-1788377400@www.bethelbible.com
SUMMARY:Hope: Hope in the Word
DESCRIPTION:Join us for Hope In The Word! An optional meal ($5 a person 6th grade and up\, 5th and below eat free) will be served at 5:45 PM\, and the study will start at 6:15 PM. \n-To register for the meal\, text â€œHOPEDINNERâ€ to (903) 437-4437 orÂ CLICK HERE \n-To register for childcare\, please text â€œHOPECHILDCAREâ€ to (903) 437-4437 or CLICK HERE \nQuestions? Email Victor atÂ victor@bethelbible.com
URL:https://www.bethelbible.com/event/hope-hope-in-the-word/2026-09-02/
LOCATION:Bethel Hope\, 504 W 32nd Street\, Tyler\, TX\, 75702\, United States
CATEGORIES:Hope Campus
END:VEVENT
BEGIN:VEVENT
DTSTART;TZID=America/Chicago:20260909T173000
DTEND;TZID=America/Chicago:20260909T193000
DTSTAMP:20260422T061810
CREATED:20250813T183018Z
LAST-MODIFIED:20250813T183018Z
UID:10002753-1788975000-1788982200@www.bethelbible.com
SUMMARY:Hope: Hope in the Word
DESCRIPTION:Join us for Hope In The Word! An optional meal ($5 a person 6th grade and up\, 5th and below eat free) will be served at 5:45 PM\, and the study will start at 6:15 PM. \n-To register for the meal\, text â€œHOPEDINNERâ€ to (903) 437-4437 orÂ CLICK HERE \n-To register for childcare\, please text â€œHOPECHILDCAREâ€ to (903) 437-4437 or CLICK HERE \nQuestions? Email Victor atÂ victor@bethelbible.com
URL:https://www.bethelbible.com/event/hope-hope-in-the-word/2026-09-09/
LOCATION:Bethel Hope\, 504 W 32nd Street\, Tyler\, TX\, 75702\, United States
CATEGORIES:Hope Campus
END:VEVENT
BEGIN:VEVENT
DTSTART;TZID=America/Chicago:20260913T183000
DTEND;TZID=America/Chicago:20260913T190000
DTSTAMP:20260422T061810
CREATED:20240911T175213Z
LAST-MODIFIED:20240911T175224Z
UID:10002249-1789324200-1789326000@www.bethelbible.com
SUMMARY:Hope: Women of Hope Prayer Time
DESCRIPTION:Women of Hope Prayer TimeÂ  \nWomen\, join us for a time of prayer on the 2nd Sunday of each month at 6:30 PM on the Hope campus. No registration required.
URL:https://www.bethelbible.com/event/hope-women-of-hope-prayer-time/2026-09-13/
LOCATION:Bethel Hope\, 504 W 32nd Street\, Tyler\, TX\, 75702\, United States
CATEGORIES:Hope Campus
END:VEVENT
BEGIN:VEVENT
DTSTART;TZID=America/Chicago:20260916T173000
DTEND;TZID=America/Chicago:20260916T193000
DTSTAMP:20260422T061810
CREATED:20250813T183018Z
LAST-MODIFIED:20250813T183018Z
UID:10002754-1789579800-1789587000@www.bethelbible.com
SUMMARY:Hope: Hope in the Word
DESCRIPTION:Join us for Hope In The Word! An optional meal ($5 a person 6th grade and up\, 5th and below eat free) will be served at 5:45 PM\, and the study will start at 6:15 PM. \n-To register for the meal\, text â€œHOPEDINNERâ€ to (903) 437-4437 orÂ CLICK HERE \n-To register for childcare\, please text â€œHOPECHILDCAREâ€ to (903) 437-4437 or CLICK HERE \nQuestions? Email Victor atÂ victor@bethelbible.com
URL:https://www.bethelbible.com/event/hope-hope-in-the-word/2026-09-16/
LOCATION:Bethel Hope\, 504 W 32nd Street\, Tyler\, TX\, 75702\, United States
CATEGORIES:Hope Campus
END:VEVENT
BEGIN:VEVENT
DTSTART;TZID=America/Chicago:20260923T173000
DTEND;TZID=America/Chicago:20260923T193000
DTSTAMP:20260422T061810
CREATED:20250813T183018Z
LAST-MODIFIED:20250813T183018Z
UID:10002755-1790184600-1790191800@www.bethelbible.com
SUMMARY:Hope: Hope in the Word
DESCRIPTION:Join us for Hope In The Word! An optional meal ($5 a person 6th grade and up\, 5th and below eat free) will be served at 5:45 PM\, and the study will start at 6:15 PM. \n-To register for the meal\, text â€œHOPEDINNERâ€ to (903) 437-4437 orÂ CLICK HERE \n-To register for childcare\, please text â€œHOPECHILDCAREâ€ to (903) 437-4437 or CLICK HERE \nQuestions? Email Victor atÂ victor@bethelbible.com
URL:https://www.bethelbible.com/event/hope-hope-in-the-word/2026-09-23/
LOCATION:Bethel Hope\, 504 W 32nd Street\, Tyler\, TX\, 75702\, United States
CATEGORIES:Hope Campus
END:VEVENT
BEGIN:VEVENT
DTSTART;TZID=America/Chicago:20260930T173000
DTEND;TZID=America/Chicago:20260930T193000
DTSTAMP:20260422T061810
CREATED:20250813T183018Z
LAST-MODIFIED:20250813T183018Z
UID:10002756-1790789400-1790796600@www.bethelbible.com
SUMMARY:Hope: Hope in the Word
DESCRIPTION:Join us for Hope In The Word! An optional meal ($5 a person 6th grade and up\, 5th and below eat free) will be served at 5:45 PM\, and the study will start at 6:15 PM. \n-To register for the meal\, text â€œHOPEDINNERâ€ to (903) 437-4437 orÂ CLICK HERE \n-To register for childcare\, please text â€œHOPECHILDCAREâ€ to (903) 437-4437 or CLICK HERE \nQuestions? Email Victor atÂ victor@bethelbible.com
URL:https://www.bethelbible.com/event/hope-hope-in-the-word/2026-09-30/
LOCATION:Bethel Hope\, 504 W 32nd Street\, Tyler\, TX\, 75702\, United States
CATEGORIES:Hope Campus
END:VEVENT
BEGIN:VEVENT
DTSTART;TZID=America/Chicago:20261007T173000
DTEND;TZID=America/Chicago:20261007T193000
DTSTAMP:20260422T061810
CREATED:20250813T183018Z
LAST-MODIFIED:20250813T183018Z
UID:10002757-1791394200-1791401400@www.bethelbible.com
SUMMARY:Hope: Hope in the Word
DESCRIPTION:Join us for Hope In The Word! An optional meal ($5 a person 6th grade and up\, 5th and below eat free) will be served at 5:45 PM\, and the study will start at 6:15 PM. \n-To register for the meal\, text â€œHOPEDINNERâ€ to (903) 437-4437 orÂ CLICK HERE \n-To register for childcare\, please text â€œHOPECHILDCAREâ€ to (903) 437-4437 or CLICK HERE \nQuestions? Email Victor atÂ victor@bethelbible.com
URL:https://www.bethelbible.com/event/hope-hope-in-the-word/2026-10-07/
LOCATION:Bethel Hope\, 504 W 32nd Street\, Tyler\, TX\, 75702\, United States
CATEGORIES:Hope Campus
END:VEVENT
BEGIN:VEVENT
DTSTART;TZID=America/Chicago:20261011T183000
DTEND;TZID=America/Chicago:20261011T190000
DTSTAMP:20260422T061810
CREATED:20240911T175213Z
LAST-MODIFIED:20240911T175224Z
UID:10002250-1791743400-1791745200@www.bethelbible.com
SUMMARY:Hope: Women of Hope Prayer Time
DESCRIPTION:Women of Hope Prayer TimeÂ  \nWomen\, join us for a time of prayer on the 2nd Sunday of each month at 6:30 PM on the Hope campus. No registration required.
URL:https://www.bethelbible.com/event/hope-women-of-hope-prayer-time/2026-10-11/
LOCATION:Bethel Hope\, 504 W 32nd Street\, Tyler\, TX\, 75702\, United States
CATEGORIES:Hope Campus
END:VEVENT
BEGIN:VEVENT
DTSTART;TZID=America/Chicago:20261014T173000
DTEND;TZID=America/Chicago:20261014T193000
DTSTAMP:20260422T061810
CREATED:20250813T183018Z
LAST-MODIFIED:20250813T183018Z
UID:10002758-1791999000-1792006200@www.bethelbible.com
SUMMARY:Hope: Hope in the Word
DESCRIPTION:Join us for Hope In The Word! An optional meal ($5 a person 6th grade and up\, 5th and below eat free) will be served at 5:45 PM\, and the study will start at 6:15 PM. \n-To register for the meal\, text â€œHOPEDINNERâ€ to (903) 437-4437 orÂ CLICK HERE \n-To register for childcare\, please text â€œHOPECHILDCAREâ€ to (903) 437-4437 or CLICK HERE \nQuestions? Email Victor atÂ victor@bethelbible.com
URL:https://www.bethelbible.com/event/hope-hope-in-the-word/2026-10-14/
LOCATION:Bethel Hope\, 504 W 32nd Street\, Tyler\, TX\, 75702\, United States
CATEGORIES:Hope Campus
END:VEVENT
BEGIN:VEVENT
DTSTART;TZID=America/Chicago:20261021T173000
DTEND;TZID=America/Chicago:20261021T193000
DTSTAMP:20260422T061810
CREATED:20250813T183018Z
LAST-MODIFIED:20250813T183018Z
UID:10002759-1792603800-1792611000@www.bethelbible.com
SUMMARY:Hope: Hope in the Word
DESCRIPTION:Join us for Hope In The Word! An optional meal ($5 a person 6th grade and up\, 5th and below eat free) will be served at 5:45 PM\, and the study will start at 6:15 PM. \n-To register for the meal\, text â€œHOPEDINNERâ€ to (903) 437-4437 orÂ CLICK HERE \n-To register for childcare\, please text â€œHOPECHILDCAREâ€ to (903) 437-4437 or CLICK HERE \nQuestions? Email Victor atÂ victor@bethelbible.com
URL:https://www.bethelbible.com/event/hope-hope-in-the-word/2026-10-21/
LOCATION:Bethel Hope\, 504 W 32nd Street\, Tyler\, TX\, 75702\, United States
CATEGORIES:Hope Campus
END:VEVENT
BEGIN:VEVENT
DTSTART;TZID=America/Chicago:20261028T173000
DTEND;TZID=America/Chicago:20261028T193000
DTSTAMP:20260422T061810
CREATED:20250813T183018Z
LAST-MODIFIED:20250813T183018Z
UID:10002760-1793208600-1793215800@www.bethelbible.com
SUMMARY:Hope: Hope in the Word
DESCRIPTION:Join us for Hope In The Word! An optional meal ($5 a person 6th grade and up\, 5th and below eat free) will be served at 5:45 PM\, and the study will start at 6:15 PM. \n-To register for the meal\, text â€œHOPEDINNERâ€ to (903) 437-4437 orÂ CLICK HERE \n-To register for childcare\, please text â€œHOPECHILDCAREâ€ to (903) 437-4437 or CLICK HERE \nQuestions? Email Victor atÂ victor@bethelbible.com
URL:https://www.bethelbible.com/event/hope-hope-in-the-word/2026-10-28/
LOCATION:Bethel Hope\, 504 W 32nd Street\, Tyler\, TX\, 75702\, United States
CATEGORIES:Hope Campus
END:VEVENT
BEGIN:VEVENT
DTSTART;TZID=America/Chicago:20261104T173000
DTEND;TZID=America/Chicago:20261104T193000
DTSTAMP:20260422T061810
CREATED:20250813T183018Z
LAST-MODIFIED:20250813T183018Z
UID:10002761-1793813400-1793820600@www.bethelbible.com
SUMMARY:Hope: Hope in the Word
DESCRIPTION:Join us for Hope In The Word! An optional meal ($5 a person 6th grade and up\, 5th and below eat free) will be served at 5:45 PM\, and the study will start at 6:15 PM. \n-To register for the meal\, text â€œHOPEDINNERâ€ to (903) 437-4437 orÂ CLICK HERE \n-To register for childcare\, please text â€œHOPECHILDCAREâ€ to (903) 437-4437 or CLICK HERE \nQuestions? Email Victor atÂ victor@bethelbible.com
URL:https://www.bethelbible.com/event/hope-hope-in-the-word/2026-11-04/
LOCATION:Bethel Hope\, 504 W 32nd Street\, Tyler\, TX\, 75702\, United States
CATEGORIES:Hope Campus
END:VEVENT
BEGIN:VEVENT
DTSTART;TZID=America/Chicago:20261108T183000
DTEND;TZID=America/Chicago:20261108T190000
DTSTAMP:20260422T061810
CREATED:20240911T175213Z
LAST-MODIFIED:20240911T175224Z
UID:10002251-1794162600-1794164400@www.bethelbible.com
SUMMARY:Hope: Women of Hope Prayer Time
DESCRIPTION:Women of Hope Prayer TimeÂ  \nWomen\, join us for a time of prayer on the 2nd Sunday of each month at 6:30 PM on the Hope campus. No registration required.
URL:https://www.bethelbible.com/event/hope-women-of-hope-prayer-time/2026-11-08/
LOCATION:Bethel Hope\, 504 W 32nd Street\, Tyler\, TX\, 75702\, United States
CATEGORIES:Hope Campus
END:VEVENT
BEGIN:VEVENT
DTSTART;TZID=America/Chicago:20261111T173000
DTEND;TZID=America/Chicago:20261111T193000
DTSTAMP:20260422T061810
CREATED:20250813T183018Z
LAST-MODIFIED:20250813T183018Z
UID:10002762-1794418200-1794425400@www.bethelbible.com
SUMMARY:Hope: Hope in the Word
DESCRIPTION:Join us for Hope In The Word! An optional meal ($5 a person 6th grade and up\, 5th and below eat free) will be served at 5:45 PM\, and the study will start at 6:15 PM. \n-To register for the meal\, text â€œHOPEDINNERâ€ to (903) 437-4437 orÂ CLICK HERE \n-To register for childcare\, please text â€œHOPECHILDCAREâ€ to (903) 437-4437 or CLICK HERE \nQuestions? Email Victor atÂ victor@bethelbible.com
URL:https://www.bethelbible.com/event/hope-hope-in-the-word/2026-11-11/
LOCATION:Bethel Hope\, 504 W 32nd Street\, Tyler\, TX\, 75702\, United States
CATEGORIES:Hope Campus
END:VEVENT
END:VCALENDAR