BEGIN:VCALENDAR
VERSION:2.0
PRODID:-//Bethel Bible Church - ECPv6.15.20//NONSGML v1.0//EN
CALSCALE:GREGORIAN
METHOD:PUBLISH
X-WR-CALNAME:Bethel Bible Church
X-ORIGINAL-URL:https://www.bethelbible.com
X-WR-CALDESC:Events for Bethel Bible Church
REFRESH-INTERVAL;VALUE=DURATION:PT1H
X-Robots-Tag:noindex
X-PUBLISHED-TTL:PT1H
BEGIN:VTIMEZONE
TZID:America/Chicago
BEGIN:DAYLIGHT
TZOFFSETFROM:-0600
TZOFFSETTO:-0500
TZNAME:CDT
DTSTART:20240310T080000
END:DAYLIGHT
BEGIN:STANDARD
TZOFFSETFROM:-0500
TZOFFSETTO:-0600
TZNAME:CST
DTSTART:20241103T070000
END:STANDARD
BEGIN:DAYLIGHT
TZOFFSETFROM:-0600
TZOFFSETTO:-0500
TZNAME:CDT
DTSTART:20250309T080000
END:DAYLIGHT
BEGIN:STANDARD
TZOFFSETFROM:-0500
TZOFFSETTO:-0600
TZNAME:CST
DTSTART:20251102T070000
END:STANDARD
BEGIN:DAYLIGHT
TZOFFSETFROM:-0600
TZOFFSETTO:-0500
TZNAME:CDT
DTSTART:20260308T080000
END:DAYLIGHT
BEGIN:STANDARD
TZOFFSETFROM:-0500
TZOFFSETTO:-0600
TZNAME:CST
DTSTART:20261101T070000
END:STANDARD
END:VTIMEZONE
BEGIN:VEVENT
DTSTART;TZID=America/Chicago:20250425T173000
DTEND;TZID=America/Chicago:20250425T193000
DTSTAMP:20260423T042339
CREATED:20250326T184212Z
LAST-MODIFIED:20250326T184212Z
UID:10002212-1745602200-1745609400@www.bethelbible.com
SUMMARY:South: Men's Grill Night
DESCRIPTION:Men\, join us at the South Pond the Friday after Easter\, April 25th at 5:30 PM for a Grill Night. Feel free to bring your sons. We will provide the grill\, plastic dinnerware\, and refreshments. You bring the meat and sides as well as a lawn chair\, fishing pole\, and any lawn games you want to play. After dinner\, we will gather around the fire and listen to a testimony from one of our own Bethel men. To register text “GRILLNIGHT” to (903) 437-4437\, orÂ CLICK HERE. \nQuestions? Email Chad atÂ chad@bethelbible.com.
URL:https://www.bethelbible.com/event/south-mens-grill-night/
LOCATION:Bethel South Campus\, 17121 Hwy 69 South\, Tyler\, TX\, 75703\, United States
CATEGORIES:South Campus
GEO:32.231484;-95.3099529
X-APPLE-STRUCTURED-LOCATION;VALUE=URI;X-ADDRESS=Bethel South Campus 17121 Hwy 69 South Tyler TX 75703 United States;X-APPLE-RADIUS=500;X-TITLE=17121 Hwy 69 South:geo:-95.3099529,32.231484
END:VEVENT
END:VCALENDAR