BEGIN:VCALENDAR
VERSION:2.0
PRODID:-//Bethel Bible Church - ECPv6.15.20//NONSGML v1.0//EN
CALSCALE:GREGORIAN
METHOD:PUBLISH
X-ORIGINAL-URL:https://www.bethelbible.com
X-WR-CALDESC:Events for Bethel Bible Church
REFRESH-INTERVAL;VALUE=DURATION:PT1H
X-Robots-Tag:noindex
X-PUBLISHED-TTL:PT1H
BEGIN:VTIMEZONE
TZID:America/Chicago
BEGIN:DAYLIGHT
TZOFFSETFROM:-0600
TZOFFSETTO:-0500
TZNAME:CDT
DTSTART:20250309T080000
END:DAYLIGHT
BEGIN:STANDARD
TZOFFSETFROM:-0500
TZOFFSETTO:-0600
TZNAME:CST
DTSTART:20251102T070000
END:STANDARD
BEGIN:DAYLIGHT
TZOFFSETFROM:-0600
TZOFFSETTO:-0500
TZNAME:CDT
DTSTART:20260308T080000
END:DAYLIGHT
BEGIN:STANDARD
TZOFFSETFROM:-0500
TZOFFSETTO:-0600
TZNAME:CST
DTSTART:20261101T070000
END:STANDARD
BEGIN:DAYLIGHT
TZOFFSETFROM:-0600
TZOFFSETTO:-0500
TZNAME:CDT
DTSTART:20270314T080000
END:DAYLIGHT
BEGIN:STANDARD
TZOFFSETFROM:-0500
TZOFFSETTO:-0600
TZNAME:CST
DTSTART:20271107T070000
END:STANDARD
BEGIN:DAYLIGHT
TZOFFSETFROM:-0600
TZOFFSETTO:-0500
TZNAME:CDT
DTSTART:20280312T080000
END:DAYLIGHT
BEGIN:STANDARD
TZOFFSETFROM:-0500
TZOFFSETTO:-0600
TZNAME:CST
DTSTART:20281105T070000
END:STANDARD
END:VTIMEZONE
BEGIN:VEVENT
DTSTART;TZID=America/Chicago:20260913T183000
DTEND;TZID=America/Chicago:20260913T190000
DTSTAMP:20260422T174013
CREATED:20240911T175213Z
LAST-MODIFIED:20240911T175224Z
UID:10002249-1789324200-1789326000@www.bethelbible.com
SUMMARY:Hope: Women of Hope Prayer Time
DESCRIPTION:Women of Hope Prayer TimeÂ  \nWomen\, join us for a time of prayer on the 2nd Sunday of each month at 6:30 PM on the Hope campus. No registration required.
URL:https://www.bethelbible.com/event/hope-women-of-hope-prayer-time/2026-09-13/
LOCATION:Bethel Hope\, 504 W 32nd Street\, Tyler\, TX\, 75702\, United States
CATEGORIES:Hope Campus
END:VEVENT
BEGIN:VEVENT
DTSTART;TZID=America/Chicago:20260916T173000
DTEND;TZID=America/Chicago:20260916T193000
DTSTAMP:20260422T174013
CREATED:20250813T183018Z
LAST-MODIFIED:20250813T183018Z
UID:10002754-1789579800-1789587000@www.bethelbible.com
SUMMARY:Hope: Hope in the Word
DESCRIPTION:Join us for Hope In The Word! An optional meal ($5 a person 6th grade and up\, 5th and below eat free) will be served at 5:45 PM\, and the study will start at 6:15 PM. \n-To register for the meal\, text â€œHOPEDINNERâ€ to (903) 437-4437 orÂ CLICK HERE \n-To register for childcare\, please text â€œHOPECHILDCAREâ€ to (903) 437-4437 or CLICK HERE \nQuestions? Email Victor atÂ victor@bethelbible.com
URL:https://www.bethelbible.com/event/hope-hope-in-the-word/2026-09-16/
LOCATION:Bethel Hope\, 504 W 32nd Street\, Tyler\, TX\, 75702\, United States
CATEGORIES:Hope Campus
END:VEVENT
BEGIN:VEVENT
DTSTART;TZID=America/Chicago:20260923T173000
DTEND;TZID=America/Chicago:20260923T193000
DTSTAMP:20260422T174013
CREATED:20250813T183018Z
LAST-MODIFIED:20250813T183018Z
UID:10002755-1790184600-1790191800@www.bethelbible.com
SUMMARY:Hope: Hope in the Word
DESCRIPTION:Join us for Hope In The Word! An optional meal ($5 a person 6th grade and up\, 5th and below eat free) will be served at 5:45 PM\, and the study will start at 6:15 PM. \n-To register for the meal\, text â€œHOPEDINNERâ€ to (903) 437-4437 orÂ CLICK HERE \n-To register for childcare\, please text â€œHOPECHILDCAREâ€ to (903) 437-4437 or CLICK HERE \nQuestions? Email Victor atÂ victor@bethelbible.com
URL:https://www.bethelbible.com/event/hope-hope-in-the-word/2026-09-23/
LOCATION:Bethel Hope\, 504 W 32nd Street\, Tyler\, TX\, 75702\, United States
CATEGORIES:Hope Campus
END:VEVENT
BEGIN:VEVENT
DTSTART;TZID=America/Chicago:20260930T173000
DTEND;TZID=America/Chicago:20260930T193000
DTSTAMP:20260422T174013
CREATED:20250813T183018Z
LAST-MODIFIED:20250813T183018Z
UID:10002756-1790789400-1790796600@www.bethelbible.com
SUMMARY:Hope: Hope in the Word
DESCRIPTION:Join us for Hope In The Word! An optional meal ($5 a person 6th grade and up\, 5th and below eat free) will be served at 5:45 PM\, and the study will start at 6:15 PM. \n-To register for the meal\, text â€œHOPEDINNERâ€ to (903) 437-4437 orÂ CLICK HERE \n-To register for childcare\, please text â€œHOPECHILDCAREâ€ to (903) 437-4437 or CLICK HERE \nQuestions? Email Victor atÂ victor@bethelbible.com
URL:https://www.bethelbible.com/event/hope-hope-in-the-word/2026-09-30/
LOCATION:Bethel Hope\, 504 W 32nd Street\, Tyler\, TX\, 75702\, United States
CATEGORIES:Hope Campus
END:VEVENT
BEGIN:VEVENT
DTSTART;TZID=America/Chicago:20261007T173000
DTEND;TZID=America/Chicago:20261007T193000
DTSTAMP:20260422T174013
CREATED:20250813T183018Z
LAST-MODIFIED:20250813T183018Z
UID:10002757-1791394200-1791401400@www.bethelbible.com
SUMMARY:Hope: Hope in the Word
DESCRIPTION:Join us for Hope In The Word! An optional meal ($5 a person 6th grade and up\, 5th and below eat free) will be served at 5:45 PM\, and the study will start at 6:15 PM. \n-To register for the meal\, text â€œHOPEDINNERâ€ to (903) 437-4437 orÂ CLICK HERE \n-To register for childcare\, please text â€œHOPECHILDCAREâ€ to (903) 437-4437 or CLICK HERE \nQuestions? Email Victor atÂ victor@bethelbible.com
URL:https://www.bethelbible.com/event/hope-hope-in-the-word/2026-10-07/
LOCATION:Bethel Hope\, 504 W 32nd Street\, Tyler\, TX\, 75702\, United States
CATEGORIES:Hope Campus
END:VEVENT
BEGIN:VEVENT
DTSTART;TZID=America/Chicago:20261011T183000
DTEND;TZID=America/Chicago:20261011T190000
DTSTAMP:20260422T174013
CREATED:20240911T175213Z
LAST-MODIFIED:20240911T175224Z
UID:10002250-1791743400-1791745200@www.bethelbible.com
SUMMARY:Hope: Women of Hope Prayer Time
DESCRIPTION:Women of Hope Prayer TimeÂ  \nWomen\, join us for a time of prayer on the 2nd Sunday of each month at 6:30 PM on the Hope campus. No registration required.
URL:https://www.bethelbible.com/event/hope-women-of-hope-prayer-time/2026-10-11/
LOCATION:Bethel Hope\, 504 W 32nd Street\, Tyler\, TX\, 75702\, United States
CATEGORIES:Hope Campus
END:VEVENT
BEGIN:VEVENT
DTSTART;TZID=America/Chicago:20261014T173000
DTEND;TZID=America/Chicago:20261014T193000
DTSTAMP:20260422T174013
CREATED:20250813T183018Z
LAST-MODIFIED:20250813T183018Z
UID:10002758-1791999000-1792006200@www.bethelbible.com
SUMMARY:Hope: Hope in the Word
DESCRIPTION:Join us for Hope In The Word! An optional meal ($5 a person 6th grade and up\, 5th and below eat free) will be served at 5:45 PM\, and the study will start at 6:15 PM. \n-To register for the meal\, text â€œHOPEDINNERâ€ to (903) 437-4437 orÂ CLICK HERE \n-To register for childcare\, please text â€œHOPECHILDCAREâ€ to (903) 437-4437 or CLICK HERE \nQuestions? Email Victor atÂ victor@bethelbible.com
URL:https://www.bethelbible.com/event/hope-hope-in-the-word/2026-10-14/
LOCATION:Bethel Hope\, 504 W 32nd Street\, Tyler\, TX\, 75702\, United States
CATEGORIES:Hope Campus
END:VEVENT
BEGIN:VEVENT
DTSTART;TZID=America/Chicago:20261021T173000
DTEND;TZID=America/Chicago:20261021T193000
DTSTAMP:20260422T174013
CREATED:20250813T183018Z
LAST-MODIFIED:20250813T183018Z
UID:10002759-1792603800-1792611000@www.bethelbible.com
SUMMARY:Hope: Hope in the Word
DESCRIPTION:Join us for Hope In The Word! An optional meal ($5 a person 6th grade and up\, 5th and below eat free) will be served at 5:45 PM\, and the study will start at 6:15 PM. \n-To register for the meal\, text â€œHOPEDINNERâ€ to (903) 437-4437 orÂ CLICK HERE \n-To register for childcare\, please text â€œHOPECHILDCAREâ€ to (903) 437-4437 or CLICK HERE \nQuestions? Email Victor atÂ victor@bethelbible.com
URL:https://www.bethelbible.com/event/hope-hope-in-the-word/2026-10-21/
LOCATION:Bethel Hope\, 504 W 32nd Street\, Tyler\, TX\, 75702\, United States
CATEGORIES:Hope Campus
END:VEVENT
BEGIN:VEVENT
DTSTART;TZID=America/Chicago:20261028T173000
DTEND;TZID=America/Chicago:20261028T193000
DTSTAMP:20260422T174013
CREATED:20250813T183018Z
LAST-MODIFIED:20250813T183018Z
UID:10002760-1793208600-1793215800@www.bethelbible.com
SUMMARY:Hope: Hope in the Word
DESCRIPTION:Join us for Hope In The Word! An optional meal ($5 a person 6th grade and up\, 5th and below eat free) will be served at 5:45 PM\, and the study will start at 6:15 PM. \n-To register for the meal\, text â€œHOPEDINNERâ€ to (903) 437-4437 orÂ CLICK HERE \n-To register for childcare\, please text â€œHOPECHILDCAREâ€ to (903) 437-4437 or CLICK HERE \nQuestions? Email Victor atÂ victor@bethelbible.com
URL:https://www.bethelbible.com/event/hope-hope-in-the-word/2026-10-28/
LOCATION:Bethel Hope\, 504 W 32nd Street\, Tyler\, TX\, 75702\, United States
CATEGORIES:Hope Campus
END:VEVENT
BEGIN:VEVENT
DTSTART;TZID=America/Chicago:20261104T173000
DTEND;TZID=America/Chicago:20261104T193000
DTSTAMP:20260422T174013
CREATED:20250813T183018Z
LAST-MODIFIED:20250813T183018Z
UID:10002761-1793813400-1793820600@www.bethelbible.com
SUMMARY:Hope: Hope in the Word
DESCRIPTION:Join us for Hope In The Word! An optional meal ($5 a person 6th grade and up\, 5th and below eat free) will be served at 5:45 PM\, and the study will start at 6:15 PM. \n-To register for the meal\, text â€œHOPEDINNERâ€ to (903) 437-4437 orÂ CLICK HERE \n-To register for childcare\, please text â€œHOPECHILDCAREâ€ to (903) 437-4437 or CLICK HERE \nQuestions? Email Victor atÂ victor@bethelbible.com
URL:https://www.bethelbible.com/event/hope-hope-in-the-word/2026-11-04/
LOCATION:Bethel Hope\, 504 W 32nd Street\, Tyler\, TX\, 75702\, United States
CATEGORIES:Hope Campus
END:VEVENT
BEGIN:VEVENT
DTSTART;TZID=America/Chicago:20261108T183000
DTEND;TZID=America/Chicago:20261108T190000
DTSTAMP:20260422T174013
CREATED:20240911T175213Z
LAST-MODIFIED:20240911T175224Z
UID:10002251-1794162600-1794164400@www.bethelbible.com
SUMMARY:Hope: Women of Hope Prayer Time
DESCRIPTION:Women of Hope Prayer TimeÂ  \nWomen\, join us for a time of prayer on the 2nd Sunday of each month at 6:30 PM on the Hope campus. No registration required.
URL:https://www.bethelbible.com/event/hope-women-of-hope-prayer-time/2026-11-08/
LOCATION:Bethel Hope\, 504 W 32nd Street\, Tyler\, TX\, 75702\, United States
CATEGORIES:Hope Campus
END:VEVENT
BEGIN:VEVENT
DTSTART;TZID=America/Chicago:20261111T173000
DTEND;TZID=America/Chicago:20261111T193000
DTSTAMP:20260422T174013
CREATED:20250813T183018Z
LAST-MODIFIED:20250813T183018Z
UID:10002762-1794418200-1794425400@www.bethelbible.com
SUMMARY:Hope: Hope in the Word
DESCRIPTION:Join us for Hope In The Word! An optional meal ($5 a person 6th grade and up\, 5th and below eat free) will be served at 5:45 PM\, and the study will start at 6:15 PM. \n-To register for the meal\, text â€œHOPEDINNERâ€ to (903) 437-4437 orÂ CLICK HERE \n-To register for childcare\, please text â€œHOPECHILDCAREâ€ to (903) 437-4437 or CLICK HERE \nQuestions? Email Victor atÂ victor@bethelbible.com
URL:https://www.bethelbible.com/event/hope-hope-in-the-word/2026-11-11/
LOCATION:Bethel Hope\, 504 W 32nd Street\, Tyler\, TX\, 75702\, United States
CATEGORIES:Hope Campus
END:VEVENT
BEGIN:VEVENT
DTSTART;TZID=America/Chicago:20261118T173000
DTEND;TZID=America/Chicago:20261118T193000
DTSTAMP:20260422T174013
CREATED:20250813T183018Z
LAST-MODIFIED:20250813T183018Z
UID:10002763-1795023000-1795030200@www.bethelbible.com
SUMMARY:Hope: Hope in the Word
DESCRIPTION:Join us for Hope In The Word! An optional meal ($5 a person 6th grade and up\, 5th and below eat free) will be served at 5:45 PM\, and the study will start at 6:15 PM. \n-To register for the meal\, text â€œHOPEDINNERâ€ to (903) 437-4437 orÂ CLICK HERE \n-To register for childcare\, please text â€œHOPECHILDCAREâ€ to (903) 437-4437 or CLICK HERE \nQuestions? Email Victor atÂ victor@bethelbible.com
URL:https://www.bethelbible.com/event/hope-hope-in-the-word/2026-11-18/
LOCATION:Bethel Hope\, 504 W 32nd Street\, Tyler\, TX\, 75702\, United States
CATEGORIES:Hope Campus
END:VEVENT
BEGIN:VEVENT
DTSTART;TZID=America/Chicago:20261125T173000
DTEND;TZID=America/Chicago:20261125T193000
DTSTAMP:20260422T174013
CREATED:20250813T183018Z
LAST-MODIFIED:20250813T183018Z
UID:10002764-1795627800-1795635000@www.bethelbible.com
SUMMARY:Hope: Hope in the Word
DESCRIPTION:Join us for Hope In The Word! An optional meal ($5 a person 6th grade and up\, 5th and below eat free) will be served at 5:45 PM\, and the study will start at 6:15 PM. \n-To register for the meal\, text â€œHOPEDINNERâ€ to (903) 437-4437 orÂ CLICK HERE \n-To register for childcare\, please text â€œHOPECHILDCAREâ€ to (903) 437-4437 or CLICK HERE \nQuestions? Email Victor atÂ victor@bethelbible.com
URL:https://www.bethelbible.com/event/hope-hope-in-the-word/2026-11-25/
LOCATION:Bethel Hope\, 504 W 32nd Street\, Tyler\, TX\, 75702\, United States
CATEGORIES:Hope Campus
END:VEVENT
BEGIN:VEVENT
DTSTART;TZID=America/Chicago:20261202T173000
DTEND;TZID=America/Chicago:20261202T193000
DTSTAMP:20260422T174013
CREATED:20250813T183018Z
LAST-MODIFIED:20250813T183018Z
UID:10002765-1796232600-1796239800@www.bethelbible.com
SUMMARY:Hope: Hope in the Word
DESCRIPTION:Join us for Hope In The Word! An optional meal ($5 a person 6th grade and up\, 5th and below eat free) will be served at 5:45 PM\, and the study will start at 6:15 PM. \n-To register for the meal\, text â€œHOPEDINNERâ€ to (903) 437-4437 orÂ CLICK HERE \n-To register for childcare\, please text â€œHOPECHILDCAREâ€ to (903) 437-4437 or CLICK HERE \nQuestions? Email Victor atÂ victor@bethelbible.com
URL:https://www.bethelbible.com/event/hope-hope-in-the-word/2026-12-02/
LOCATION:Bethel Hope\, 504 W 32nd Street\, Tyler\, TX\, 75702\, United States
CATEGORIES:Hope Campus
END:VEVENT
BEGIN:VEVENT
DTSTART;TZID=America/Chicago:20261209T173000
DTEND;TZID=America/Chicago:20261209T193000
DTSTAMP:20260422T174013
CREATED:20250813T183018Z
LAST-MODIFIED:20250813T183018Z
UID:10002766-1796837400-1796844600@www.bethelbible.com
SUMMARY:Hope: Hope in the Word
DESCRIPTION:Join us for Hope In The Word! An optional meal ($5 a person 6th grade and up\, 5th and below eat free) will be served at 5:45 PM\, and the study will start at 6:15 PM. \n-To register for the meal\, text â€œHOPEDINNERâ€ to (903) 437-4437 orÂ CLICK HERE \n-To register for childcare\, please text â€œHOPECHILDCAREâ€ to (903) 437-4437 or CLICK HERE \nQuestions? Email Victor atÂ victor@bethelbible.com
URL:https://www.bethelbible.com/event/hope-hope-in-the-word/2026-12-09/
LOCATION:Bethel Hope\, 504 W 32nd Street\, Tyler\, TX\, 75702\, United States
CATEGORIES:Hope Campus
END:VEVENT
BEGIN:VEVENT
DTSTART;TZID=America/Chicago:20261213T183000
DTEND;TZID=America/Chicago:20261213T190000
DTSTAMP:20260422T174013
CREATED:20240911T175213Z
LAST-MODIFIED:20240911T175224Z
UID:10002252-1797186600-1797188400@www.bethelbible.com
SUMMARY:Hope: Women of Hope Prayer Time
DESCRIPTION:Women of Hope Prayer TimeÂ  \nWomen\, join us for a time of prayer on the 2nd Sunday of each month at 6:30 PM on the Hope campus. No registration required.
URL:https://www.bethelbible.com/event/hope-women-of-hope-prayer-time/2026-12-13/
LOCATION:Bethel Hope\, 504 W 32nd Street\, Tyler\, TX\, 75702\, United States
CATEGORIES:Hope Campus
END:VEVENT
BEGIN:VEVENT
DTSTART;TZID=America/Chicago:20261216T173000
DTEND;TZID=America/Chicago:20261216T193000
DTSTAMP:20260422T174013
CREATED:20250813T183018Z
LAST-MODIFIED:20250813T183018Z
UID:10002767-1797442200-1797449400@www.bethelbible.com
SUMMARY:Hope: Hope in the Word
DESCRIPTION:Join us for Hope In The Word! An optional meal ($5 a person 6th grade and up\, 5th and below eat free) will be served at 5:45 PM\, and the study will start at 6:15 PM. \n-To register for the meal\, text â€œHOPEDINNERâ€ to (903) 437-4437 orÂ CLICK HERE \n-To register for childcare\, please text â€œHOPECHILDCAREâ€ to (903) 437-4437 or CLICK HERE \nQuestions? Email Victor atÂ victor@bethelbible.com
URL:https://www.bethelbible.com/event/hope-hope-in-the-word/2026-12-16/
LOCATION:Bethel Hope\, 504 W 32nd Street\, Tyler\, TX\, 75702\, United States
CATEGORIES:Hope Campus
END:VEVENT
BEGIN:VEVENT
DTSTART;TZID=America/Chicago:20261223T173000
DTEND;TZID=America/Chicago:20261223T193000
DTSTAMP:20260422T174013
CREATED:20250813T183018Z
LAST-MODIFIED:20250813T183018Z
UID:10002768-1798047000-1798054200@www.bethelbible.com
SUMMARY:Hope: Hope in the Word
DESCRIPTION:Join us for Hope In The Word! An optional meal ($5 a person 6th grade and up\, 5th and below eat free) will be served at 5:45 PM\, and the study will start at 6:15 PM. \n-To register for the meal\, text â€œHOPEDINNERâ€ to (903) 437-4437 orÂ CLICK HERE \n-To register for childcare\, please text â€œHOPECHILDCAREâ€ to (903) 437-4437 or CLICK HERE \nQuestions? Email Victor atÂ victor@bethelbible.com
URL:https://www.bethelbible.com/event/hope-hope-in-the-word/2026-12-23/
LOCATION:Bethel Hope\, 504 W 32nd Street\, Tyler\, TX\, 75702\, United States
CATEGORIES:Hope Campus
END:VEVENT
BEGIN:VEVENT
DTSTART;TZID=America/Chicago:20270110T183000
DTEND;TZID=America/Chicago:20270110T190000
DTSTAMP:20260422T174013
CREATED:20240911T175213Z
LAST-MODIFIED:20240911T175224Z
UID:10002253-1799605800-1799607600@www.bethelbible.com
SUMMARY:Hope: Women of Hope Prayer Time
DESCRIPTION:Women of Hope Prayer TimeÂ  \nWomen\, join us for a time of prayer on the 2nd Sunday of each month at 6:30 PM on the Hope campus. No registration required.
URL:https://www.bethelbible.com/event/hope-women-of-hope-prayer-time/2027-01-10/
LOCATION:Bethel Hope\, 504 W 32nd Street\, Tyler\, TX\, 75702\, United States
CATEGORIES:Hope Campus
END:VEVENT
BEGIN:VEVENT
DTSTART;TZID=America/Chicago:20270214T183000
DTEND;TZID=America/Chicago:20270214T190000
DTSTAMP:20260422T174013
CREATED:20240911T175213Z
LAST-MODIFIED:20240911T175224Z
UID:10002254-1802629800-1802631600@www.bethelbible.com
SUMMARY:Hope: Women of Hope Prayer Time
DESCRIPTION:Women of Hope Prayer TimeÂ  \nWomen\, join us for a time of prayer on the 2nd Sunday of each month at 6:30 PM on the Hope campus. No registration required.
URL:https://www.bethelbible.com/event/hope-women-of-hope-prayer-time/2027-02-14/
LOCATION:Bethel Hope\, 504 W 32nd Street\, Tyler\, TX\, 75702\, United States
CATEGORIES:Hope Campus
END:VEVENT
BEGIN:VEVENT
DTSTART;TZID=America/Chicago:20270314T183000
DTEND;TZID=America/Chicago:20270314T190000
DTSTAMP:20260422T174013
CREATED:20240911T175213Z
LAST-MODIFIED:20240911T175224Z
UID:10002255-1805049000-1805050800@www.bethelbible.com
SUMMARY:Hope: Women of Hope Prayer Time
DESCRIPTION:Women of Hope Prayer TimeÂ  \nWomen\, join us for a time of prayer on the 2nd Sunday of each month at 6:30 PM on the Hope campus. No registration required.
URL:https://www.bethelbible.com/event/hope-women-of-hope-prayer-time/2027-03-14/
LOCATION:Bethel Hope\, 504 W 32nd Street\, Tyler\, TX\, 75702\, United States
CATEGORIES:Hope Campus
END:VEVENT
BEGIN:VEVENT
DTSTART;TZID=America/Chicago:20270411T183000
DTEND;TZID=America/Chicago:20270411T190000
DTSTAMP:20260422T174013
CREATED:20240911T175213Z
LAST-MODIFIED:20240911T175224Z
UID:10002256-1807468200-1807470000@www.bethelbible.com
SUMMARY:Hope: Women of Hope Prayer Time
DESCRIPTION:Women of Hope Prayer TimeÂ  \nWomen\, join us for a time of prayer on the 2nd Sunday of each month at 6:30 PM on the Hope campus. No registration required.
URL:https://www.bethelbible.com/event/hope-women-of-hope-prayer-time/2027-04-11/
LOCATION:Bethel Hope\, 504 W 32nd Street\, Tyler\, TX\, 75702\, United States
CATEGORIES:Hope Campus
END:VEVENT
BEGIN:VEVENT
DTSTART;TZID=America/Chicago:20270509T183000
DTEND;TZID=America/Chicago:20270509T190000
DTSTAMP:20260422T174013
CREATED:20240911T175213Z
LAST-MODIFIED:20240911T175224Z
UID:10002257-1809887400-1809889200@www.bethelbible.com
SUMMARY:Hope: Women of Hope Prayer Time
DESCRIPTION:Women of Hope Prayer TimeÂ  \nWomen\, join us for a time of prayer on the 2nd Sunday of each month at 6:30 PM on the Hope campus. No registration required.
URL:https://www.bethelbible.com/event/hope-women-of-hope-prayer-time/2027-05-09/
LOCATION:Bethel Hope\, 504 W 32nd Street\, Tyler\, TX\, 75702\, United States
CATEGORIES:Hope Campus
END:VEVENT
BEGIN:VEVENT
DTSTART;TZID=America/Chicago:20270613T183000
DTEND;TZID=America/Chicago:20270613T190000
DTSTAMP:20260422T174013
CREATED:20240911T175213Z
LAST-MODIFIED:20240911T175224Z
UID:10002258-1812911400-1812913200@www.bethelbible.com
SUMMARY:Hope: Women of Hope Prayer Time
DESCRIPTION:Women of Hope Prayer TimeÂ  \nWomen\, join us for a time of prayer on the 2nd Sunday of each month at 6:30 PM on the Hope campus. No registration required.
URL:https://www.bethelbible.com/event/hope-women-of-hope-prayer-time/2027-06-13/
LOCATION:Bethel Hope\, 504 W 32nd Street\, Tyler\, TX\, 75702\, United States
CATEGORIES:Hope Campus
END:VEVENT
BEGIN:VEVENT
DTSTART;TZID=America/Chicago:20270711T183000
DTEND;TZID=America/Chicago:20270711T190000
DTSTAMP:20260422T174013
CREATED:20240911T175213Z
LAST-MODIFIED:20240911T175224Z
UID:10002259-1815330600-1815332400@www.bethelbible.com
SUMMARY:Hope: Women of Hope Prayer Time
DESCRIPTION:Women of Hope Prayer TimeÂ  \nWomen\, join us for a time of prayer on the 2nd Sunday of each month at 6:30 PM on the Hope campus. No registration required.
URL:https://www.bethelbible.com/event/hope-women-of-hope-prayer-time/2027-07-11/
LOCATION:Bethel Hope\, 504 W 32nd Street\, Tyler\, TX\, 75702\, United States
CATEGORIES:Hope Campus
END:VEVENT
BEGIN:VEVENT
DTSTART;TZID=America/Chicago:20270808T183000
DTEND;TZID=America/Chicago:20270808T190000
DTSTAMP:20260422T174013
CREATED:20240911T175213Z
LAST-MODIFIED:20240911T175224Z
UID:10002260-1817749800-1817751600@www.bethelbible.com
SUMMARY:Hope: Women of Hope Prayer Time
DESCRIPTION:Women of Hope Prayer TimeÂ  \nWomen\, join us for a time of prayer on the 2nd Sunday of each month at 6:30 PM on the Hope campus. No registration required.
URL:https://www.bethelbible.com/event/hope-women-of-hope-prayer-time/2027-08-08/
LOCATION:Bethel Hope\, 504 W 32nd Street\, Tyler\, TX\, 75702\, United States
CATEGORIES:Hope Campus
END:VEVENT
BEGIN:VEVENT
DTSTART;TZID=America/Chicago:20270912T183000
DTEND;TZID=America/Chicago:20270912T190000
DTSTAMP:20260422T174013
CREATED:20240911T175213Z
LAST-MODIFIED:20240911T175224Z
UID:10002261-1820773800-1820775600@www.bethelbible.com
SUMMARY:Hope: Women of Hope Prayer Time
DESCRIPTION:Women of Hope Prayer TimeÂ  \nWomen\, join us for a time of prayer on the 2nd Sunday of each month at 6:30 PM on the Hope campus. No registration required.
URL:https://www.bethelbible.com/event/hope-women-of-hope-prayer-time/2027-09-12/
LOCATION:Bethel Hope\, 504 W 32nd Street\, Tyler\, TX\, 75702\, United States
CATEGORIES:Hope Campus
END:VEVENT
BEGIN:VEVENT
DTSTART;TZID=America/Chicago:20271010T183000
DTEND;TZID=America/Chicago:20271010T190000
DTSTAMP:20260422T174013
CREATED:20240911T175213Z
LAST-MODIFIED:20240911T175224Z
UID:10002262-1823193000-1823194800@www.bethelbible.com
SUMMARY:Hope: Women of Hope Prayer Time
DESCRIPTION:Women of Hope Prayer TimeÂ  \nWomen\, join us for a time of prayer on the 2nd Sunday of each month at 6:30 PM on the Hope campus. No registration required.
URL:https://www.bethelbible.com/event/hope-women-of-hope-prayer-time/2027-10-10/
LOCATION:Bethel Hope\, 504 W 32nd Street\, Tyler\, TX\, 75702\, United States
CATEGORIES:Hope Campus
END:VEVENT
BEGIN:VEVENT
DTSTART;TZID=America/Chicago:20271114T183000
DTEND;TZID=America/Chicago:20271114T190000
DTSTAMP:20260422T174013
CREATED:20240911T175213Z
LAST-MODIFIED:20240911T175224Z
UID:10002263-1826217000-1826218800@www.bethelbible.com
SUMMARY:Hope: Women of Hope Prayer Time
DESCRIPTION:Women of Hope Prayer TimeÂ  \nWomen\, join us for a time of prayer on the 2nd Sunday of each month at 6:30 PM on the Hope campus. No registration required.
URL:https://www.bethelbible.com/event/hope-women-of-hope-prayer-time/2027-11-14/
LOCATION:Bethel Hope\, 504 W 32nd Street\, Tyler\, TX\, 75702\, United States
CATEGORIES:Hope Campus
END:VEVENT
END:VCALENDAR