BEGIN:VCALENDAR
VERSION:2.0
PRODID:-//Bethel Bible Church - ECPv6.15.20//NONSGML v1.0//EN
CALSCALE:GREGORIAN
METHOD:PUBLISH
X-WR-CALNAME:Bethel Bible Church
X-ORIGINAL-URL:https://www.bethelbible.com
X-WR-CALDESC:Events for Bethel Bible Church
REFRESH-INTERVAL;VALUE=DURATION:PT1H
X-Robots-Tag:noindex
X-PUBLISHED-TTL:PT1H
BEGIN:VTIMEZONE
TZID:America/Chicago
BEGIN:DAYLIGHT
TZOFFSETFROM:-0600
TZOFFSETTO:-0500
TZNAME:CDT
DTSTART:20240310T080000
END:DAYLIGHT
BEGIN:STANDARD
TZOFFSETFROM:-0500
TZOFFSETTO:-0600
TZNAME:CST
DTSTART:20241103T070000
END:STANDARD
BEGIN:DAYLIGHT
TZOFFSETFROM:-0600
TZOFFSETTO:-0500
TZNAME:CDT
DTSTART:20250309T080000
END:DAYLIGHT
BEGIN:STANDARD
TZOFFSETFROM:-0500
TZOFFSETTO:-0600
TZNAME:CST
DTSTART:20251102T070000
END:STANDARD
BEGIN:DAYLIGHT
TZOFFSETFROM:-0600
TZOFFSETTO:-0500
TZNAME:CDT
DTSTART:20260308T080000
END:DAYLIGHT
BEGIN:STANDARD
TZOFFSETFROM:-0500
TZOFFSETTO:-0600
TZNAME:CST
DTSTART:20261101T070000
END:STANDARD
BEGIN:DAYLIGHT
TZOFFSETFROM:-0600
TZOFFSETTO:-0500
TZNAME:CDT
DTSTART:20270314T080000
END:DAYLIGHT
BEGIN:STANDARD
TZOFFSETFROM:-0500
TZOFFSETTO:-0600
TZNAME:CST
DTSTART:20271107T070000
END:STANDARD
END:VTIMEZONE
BEGIN:VEVENT
DTSTART;TZID=America/Chicago:20260121T183000
DTEND;TZID=America/Chicago:20260121T200000
DTSTAMP:20260422T173929
CREATED:20251208T183938Z
LAST-MODIFIED:20251208T184129Z
UID:10002897-1769020200-1769025600@www.bethelbible.com
SUMMARY:South: Crown Financial Class
DESCRIPTION:Crown is a 10-week Biblical Financial Study offered at MidWeek at the South Campus this Spring\, beginning January 14th. The course is facilitator-led\, and each week’s lesson has two components – an in-depth Bible study on that week’s topic and hands-on financial exercises. The participants will be guided to apply newly gained wisdom to their personal lives and finances. The teaching strategy used in this study treats more than the symptoms of financial bondage – it creates a long-term transformation of the heart. This is the most effective way to find biblically based answers to one’s financial questions and difficulties. Questions? Please email Chad at chad@bethelbible.com. \nTo register text “CROWN” to (903) 437-4437 or CLICK HERE
URL:https://www.bethelbible.com/event/south-crown-financial-class/2026-01-21/
LOCATION:Bethel South Campus\, 17121 Hwy 69 South\, Tyler\, TX\, 75703\, United States
CATEGORIES:South Campus
GEO:32.231484;-95.3099529
X-APPLE-STRUCTURED-LOCATION;VALUE=URI;X-ADDRESS=Bethel South Campus 17121 Hwy 69 South Tyler TX 75703 United States;X-APPLE-RADIUS=500;X-TITLE=17121 Hwy 69 South:geo:-95.3099529,32.231484
END:VEVENT
BEGIN:VEVENT
DTSTART;TZID=America/Chicago:20260121T180000
DTEND;TZID=America/Chicago:20260121T183000
DTSTAMP:20260422T173929
CREATED:20251210T174315Z
LAST-MODIFIED:20251210T174359Z
UID:10002926-1769018400-1769020200@www.bethelbible.com
SUMMARY:South: MidWeek Meal
DESCRIPTION:We’re excited to offer a Wednesday Night Meal! Please register below so we know how much food to prepare. We will meet at 6 PM each Wednesday in the Sanctuary. Please register each week! Please RSVP by Monday at 12:30 PM! \nTo register  CLICK HERE \nMidWeek Kids\nNursery-age-5th-grade children are invited to participate in Midweek Kids at 6:30 PM! Please register your child by clicking here OR by clicking the link after you register for the MidWeek Meal. \nIf you need to cancel your registration or have any questions\, please contact Shelby Skiles at  shelby@bethelbible.com.
URL:https://www.bethelbible.com/event/south-midweek-meal-4/2026-01-21/
LOCATION:Bethel South Campus\, 17121 Hwy 69 South\, Tyler\, TX\, 75703\, United States
GEO:32.231484;-95.3099529
X-APPLE-STRUCTURED-LOCATION;VALUE=URI;X-ADDRESS=Bethel South Campus 17121 Hwy 69 South Tyler TX 75703 United States;X-APPLE-RADIUS=500;X-TITLE=17121 Hwy 69 South:geo:-95.3099529,32.231484
END:VEVENT
BEGIN:VEVENT
DTSTART;TZID=America/Chicago:20260121T173000
DTEND;TZID=America/Chicago:20260121T193000
DTSTAMP:20260422T173929
CREATED:20250813T183018Z
LAST-MODIFIED:20250813T183018Z
UID:10002720-1769016600-1769023800@www.bethelbible.com
SUMMARY:Hope: Hope in the Word
DESCRIPTION:Join us for Hope In The Word! An optional meal ($5 a person 6th grade and up\, 5th and below eat free) will be served at 5:45 PM\, and the study will start at 6:15 PM. \n-To register for the meal\, text â€œHOPEDINNERâ€ to (903) 437-4437 orÂ CLICK HERE \n-To register for childcare\, please text â€œHOPECHILDCAREâ€ to (903) 437-4437 or CLICK HERE \nQuestions? Email Victor atÂ victor@bethelbible.com
URL:https://www.bethelbible.com/event/hope-hope-in-the-word/2026-01-21/
LOCATION:Bethel Hope\, 504 W 32nd Street\, Tyler\, TX\, 75702\, United States
CATEGORIES:Hope Campus
END:VEVENT
BEGIN:VEVENT
DTSTART;TZID=America/Chicago:20260117T080000
DTEND;TZID=America/Chicago:20260117T120000
DTSTAMP:20260422T173929
CREATED:20260107T195127Z
LAST-MODIFIED:20260107T195201Z
UID:10002948-1768636800-1768651200@www.bethelbible.com
SUMMARY:Family Fishing Day
DESCRIPTION:This is a wonderful event if you or your kiddos have never fished before but are ready to tackle a new hobby. You will leave with your cleaned catch in a ziplock bag! There are volunteers if you need help with any fishing-related needs. There are facilities nearby and plenty of parking. Get ready to make some fun memories with the kids on January 17th from 8-12. The early bird gets the fish!
URL:https://www.bethelbible.com/event/family-fishing-day/
LOCATION:Tyler Nature Center\, 11942 FM 848\, Tyler\, TX\, 75707\, United States
GEO:32.307297;-95.217087
X-APPLE-STRUCTURED-LOCATION;VALUE=URI;X-ADDRESS=Tyler Nature Center 11942 FM 848 Tyler TX 75707 United States;X-APPLE-RADIUS=500;X-TITLE=11942 FM 848:geo:-95.217087,32.307297
END:VEVENT
BEGIN:VEVENT
DTSTART;TZID=America/Chicago:20260114T183000
DTEND;TZID=America/Chicago:20260114T200000
DTSTAMP:20260422T173929
CREATED:20251208T183938Z
LAST-MODIFIED:20251208T184129Z
UID:10002896-1768415400-1768420800@www.bethelbible.com
SUMMARY:South: Crown Financial Class
DESCRIPTION:Crown is a 10-week Biblical Financial Study offered at MidWeek at the South Campus this Spring\, beginning January 14th. The course is facilitator-led\, and each week’s lesson has two components – an in-depth Bible study on that week’s topic and hands-on financial exercises. The participants will be guided to apply newly gained wisdom to their personal lives and finances. The teaching strategy used in this study treats more than the symptoms of financial bondage – it creates a long-term transformation of the heart. This is the most effective way to find biblically based answers to one’s financial questions and difficulties. Questions? Please email Chad at chad@bethelbible.com. \nTo register text “CROWN” to (903) 437-4437 or CLICK HERE
URL:https://www.bethelbible.com/event/south-crown-financial-class/2026-01-14/
LOCATION:Bethel South Campus\, 17121 Hwy 69 South\, Tyler\, TX\, 75703\, United States
CATEGORIES:South Campus
GEO:32.231484;-95.3099529
X-APPLE-STRUCTURED-LOCATION;VALUE=URI;X-ADDRESS=Bethel South Campus 17121 Hwy 69 South Tyler TX 75703 United States;X-APPLE-RADIUS=500;X-TITLE=17121 Hwy 69 South:geo:-95.3099529,32.231484
END:VEVENT
BEGIN:VEVENT
DTSTART;TZID=America/Chicago:20260114T180000
DTEND;TZID=America/Chicago:20260114T183000
DTSTAMP:20260422T173929
CREATED:20251210T174315Z
LAST-MODIFIED:20251210T174359Z
UID:10002925-1768413600-1768415400@www.bethelbible.com
SUMMARY:South: MidWeek Meal
DESCRIPTION:We’re excited to offer a Wednesday Night Meal! Please register below so we know how much food to prepare. We will meet at 6 PM each Wednesday in the Sanctuary. Please register each week! Please RSVP by Monday at 12:30 PM! \nTo register  CLICK HERE \nMidWeek Kids\nNursery-age-5th-grade children are invited to participate in Midweek Kids at 6:30 PM! Please register your child by clicking here OR by clicking the link after you register for the MidWeek Meal. \nIf you need to cancel your registration or have any questions\, please contact Shelby Skiles at  shelby@bethelbible.com.
URL:https://www.bethelbible.com/event/south-midweek-meal-4/2026-01-14/
LOCATION:Bethel South Campus\, 17121 Hwy 69 South\, Tyler\, TX\, 75703\, United States
GEO:32.231484;-95.3099529
X-APPLE-STRUCTURED-LOCATION;VALUE=URI;X-ADDRESS=Bethel South Campus 17121 Hwy 69 South Tyler TX 75703 United States;X-APPLE-RADIUS=500;X-TITLE=17121 Hwy 69 South:geo:-95.3099529,32.231484
END:VEVENT
BEGIN:VEVENT
DTSTART;TZID=America/Chicago:20260114T173000
DTEND;TZID=America/Chicago:20260114T193000
DTSTAMP:20260422T173929
CREATED:20250813T183018Z
LAST-MODIFIED:20250813T183018Z
UID:10002719-1768411800-1768419000@www.bethelbible.com
SUMMARY:Hope: Hope in the Word
DESCRIPTION:Join us for Hope In The Word! An optional meal ($5 a person 6th grade and up\, 5th and below eat free) will be served at 5:45 PM\, and the study will start at 6:15 PM. \n-To register for the meal\, text â€œHOPEDINNERâ€ to (903) 437-4437 orÂ CLICK HERE \n-To register for childcare\, please text â€œHOPECHILDCAREâ€ to (903) 437-4437 or CLICK HERE \nQuestions? Email Victor atÂ victor@bethelbible.com
URL:https://www.bethelbible.com/event/hope-hope-in-the-word/2026-01-14/
LOCATION:Bethel Hope\, 504 W 32nd Street\, Tyler\, TX\, 75702\, United States
CATEGORIES:Hope Campus
END:VEVENT
BEGIN:VEVENT
DTSTART;TZID=America/Chicago:20260111T183000
DTEND;TZID=America/Chicago:20260111T190000
DTSTAMP:20260422T173929
CREATED:20240911T175213Z
LAST-MODIFIED:20240911T175224Z
UID:10002241-1768156200-1768158000@www.bethelbible.com
SUMMARY:Hope: Women of Hope Prayer Time
DESCRIPTION:Women of Hope Prayer TimeÂ  \nWomen\, join us for a time of prayer on the 2nd Sunday of each month at 6:30 PM on the Hope campus. No registration required.
URL:https://www.bethelbible.com/event/hope-women-of-hope-prayer-time/2026-01-11/
LOCATION:Bethel Hope\, 504 W 32nd Street\, Tyler\, TX\, 75702\, United States
CATEGORIES:Hope Campus
END:VEVENT
BEGIN:VEVENT
DTSTART;TZID=America/Chicago:20260111T120000
DTEND;TZID=America/Chicago:20260111T123000
DTSTAMP:20260422T173929
CREATED:20251218T190045Z
LAST-MODIFIED:20251218T190157Z
UID:10002940-1768132800-1768134600@www.bethelbible.com
SUMMARY:Hope: Student Ministry Volunteer Interest Meeting
DESCRIPTION:Join us for an important meeting to discuss our plans and volunteer opportunities for Bethel Hope Student Ministry 2026.\nWhen: January 11\, 2026\, immediately following the service\nWhere: The Cafeteria at Bethel Hope\nWho: Parents of Hope students\, current volunteers\, and anyone interested in joining our volunteer team!
URL:https://www.bethelbible.com/event/hope-student-ministry-volunteer-interest-meeting/
LOCATION:Bethel Hope\, 504 W 32nd Street\, Tyler\, TX\, 75702\, United States
CATEGORIES:Hope Campus
END:VEVENT
BEGIN:VEVENT
DTSTART;TZID=America/Chicago:20260111T103000
DTEND;TZID=America/Chicago:20260111T113000
DTSTAMP:20260422T173929
CREATED:20251203T201543Z
LAST-MODIFIED:20251203T201847Z
UID:10002894-1768127400-1768131000@www.bethelbible.com
SUMMARY:Hope: Baby Dedication
DESCRIPTION:As parents\, we have been entrusted with the precious gift of our children’s lives. Child Dedication is a time to come together as a family and as the Church and intentionally pray for your child’s relationship with the Lord. \nWe invite you to have your nursery-aged child dedicated during our special service on January 11\, 2026 during the 10:30 AM service. Please register by January 7th. Questions? Please email Lisa at hopeadmin@bethelbible.com. \nTo register\, CLICK HERE.
URL:https://www.bethelbible.com/event/hope-baby-dedication/
LOCATION:Bethel Hope\, 504 W 32nd Street\, Tyler\, TX\, 75702\, United States
CATEGORIES:Hope Campus
END:VEVENT
BEGIN:VEVENT
DTSTART;TZID=America/Chicago:20260107T173000
DTEND;TZID=America/Chicago:20260107T193000
DTSTAMP:20260422T173929
CREATED:20250813T183018Z
LAST-MODIFIED:20250813T183018Z
UID:10002718-1767807000-1767814200@www.bethelbible.com
SUMMARY:Hope: Hope in the Word
DESCRIPTION:Join us for Hope In The Word! An optional meal ($5 a person 6th grade and up\, 5th and below eat free) will be served at 5:45 PM\, and the study will start at 6:15 PM. \n-To register for the meal\, text â€œHOPEDINNERâ€ to (903) 437-4437 orÂ CLICK HERE \n-To register for childcare\, please text â€œHOPECHILDCAREâ€ to (903) 437-4437 or CLICK HERE \nQuestions? Email Victor atÂ victor@bethelbible.com
URL:https://www.bethelbible.com/event/hope-hope-in-the-word/2026-01-07/
LOCATION:Bethel Hope\, 504 W 32nd Street\, Tyler\, TX\, 75702\, United States
CATEGORIES:Hope Campus
END:VEVENT
BEGIN:VEVENT
DTSTART;TZID=America/Chicago:20251231T173000
DTEND;TZID=America/Chicago:20251231T193000
DTSTAMP:20260422T173929
CREATED:20250813T183018Z
LAST-MODIFIED:20250813T183018Z
UID:10002717-1767202200-1767209400@www.bethelbible.com
SUMMARY:Hope: Hope in the Word
DESCRIPTION:Join us for Hope In The Word! An optional meal ($5 a person 6th grade and up\, 5th and below eat free) will be served at 5:45 PM\, and the study will start at 6:15 PM. \n-To register for the meal\, text â€œHOPEDINNERâ€ to (903) 437-4437 orÂ CLICK HERE \n-To register for childcare\, please text â€œHOPECHILDCAREâ€ to (903) 437-4437 or CLICK HERE \nQuestions? Email Victor atÂ victor@bethelbible.com
URL:https://www.bethelbible.com/event/hope-hope-in-the-word/2025-12-31/
LOCATION:Bethel Hope\, 504 W 32nd Street\, Tyler\, TX\, 75702\, United States
CATEGORIES:Hope Campus
END:VEVENT
BEGIN:VEVENT
DTSTART;TZID=America/Chicago:20251228T100000
DTEND;TZID=America/Chicago:20251228T110000
DTSTAMP:20260422T173929
CREATED:20251121T162050Z
LAST-MODIFIED:20251217T161841Z
UID:10002888-1766916000-1766919600@www.bethelbible.com
SUMMARY:South: Family Service
DESCRIPTION:10 AM: 1 Family Service: Includes kids ministry for nursery through 4 years old (no elementary or youth)
URL:https://www.bethelbible.com/event/south-family-service/
LOCATION:Bethel South Campus\, 17121 Hwy 69 South\, Tyler\, TX\, 75703\, United States
CATEGORIES:South Campus
GEO:32.231484;-95.3099529
X-APPLE-STRUCTURED-LOCATION;VALUE=URI;X-ADDRESS=Bethel South Campus 17121 Hwy 69 South Tyler TX 75703 United States;X-APPLE-RADIUS=500;X-TITLE=17121 Hwy 69 South:geo:-95.3099529,32.231484
END:VEVENT
BEGIN:VEVENT
DTSTART;TZID=America/Chicago:20251228T080000
DTEND;TZID=America/Chicago:20251228T170000
DTSTAMP:20260422T173929
CREATED:20251217T161812Z
LAST-MODIFIED:20251217T161812Z
UID:10002939-1766908800-1766941200@www.bethelbible.com
SUMMARY:Downtown: Family Service
DESCRIPTION:Family Service December 28th\, at 10:30 AM (no childcare)
URL:https://www.bethelbible.com/event/downtown-family-service-2/
LOCATION:TX
END:VEVENT
BEGIN:VEVENT
DTSTART;TZID=America/Chicago:20251224T183000
DTEND;TZID=America/Chicago:20251224T193000
DTSTAMP:20260422T173929
CREATED:20251222T155955Z
LAST-MODIFIED:20251222T160456Z
UID:10002942-1766601000-1766604600@www.bethelbible.com
SUMMARY:South: 6:30 PM Christmas Eve Service
DESCRIPTION:6:30 PM: Family Service\, no kids’ ministry available
URL:https://www.bethelbible.com/event/south-630-pm-christmas-eve-service/
LOCATION:Bethel South Campus\, 17121 Hwy 69 South\, Tyler\, TX\, 75703\, United States
CATEGORIES:South Campus
GEO:32.231484;-95.3099529
X-APPLE-STRUCTURED-LOCATION;VALUE=URI;X-ADDRESS=Bethel South Campus 17121 Hwy 69 South Tyler TX 75703 United States;X-APPLE-RADIUS=500;X-TITLE=17121 Hwy 69 South:geo:-95.3099529,32.231484
END:VEVENT
BEGIN:VEVENT
DTSTART;TZID=America/Chicago:20251224T180000
DTEND;TZID=America/Chicago:20251224T190000
DTSTAMP:20260422T173929
CREATED:20251121T161147Z
LAST-MODIFIED:20251121T161352Z
UID:10002886-1766599200-1766602800@www.bethelbible.com
SUMMARY:Downtown: Christmas Eve Service
DESCRIPTION:Downtown Christmas Eve Family Service  \n6:00 PM: Christmas Eve Family Service (no childcare) \n\n\n 
URL:https://www.bethelbible.com/event/downtown-christmas-eve-service-2/
LOCATION:Bethel Downtown\, 202 South Broadway Avenue\, Tyler\, TX\, 75702\, United States
GEO:32.3493789;-95.3002841
X-APPLE-STRUCTURED-LOCATION;VALUE=URI;X-ADDRESS=Bethel Downtown 202 South Broadway Avenue Tyler TX 75702 United States;X-APPLE-RADIUS=500;X-TITLE=202 South Broadway Avenue:geo:-95.3002841,32.3493789
END:VEVENT
BEGIN:VEVENT
DTSTART;TZID=America/Chicago:20251224T173000
DTEND;TZID=America/Chicago:20251224T190000
DTSTAMP:20260422T173929
CREATED:20251121T161812Z
LAST-MODIFIED:20251121T161812Z
UID:10002887-1766597400-1766602800@www.bethelbible.com
SUMMARY:Henderson: Christmas Eve Service
DESCRIPTION:Henderson Christmas Eve Service \n5:30 PM: Hot Chocolate Bar \n6 PM: Family Service (no childcare) \n 
URL:https://www.bethelbible.com/event/henderson-christmas-eve-service/
LOCATION:Bethel Henderson\, 2300 E Main Street\, Henderson\, TX\, 75652
CATEGORIES:Henderson Campus
END:VEVENT
BEGIN:VEVENT
DTSTART;TZID=America/Chicago:20251224T170000
DTEND;TZID=America/Chicago:20251224T180000
DTSTAMP:20260422T173929
CREATED:20251121T160636Z
LAST-MODIFIED:20251222T155835Z
UID:10002885-1766595600-1766599200@www.bethelbible.com
SUMMARY:South: 5 PM Christmas Eve Service
DESCRIPTION:5 PM: Family Service\, includes kids ministry for nursery through 2-year-olds \n 
URL:https://www.bethelbible.com/event/south-christmas-eve-service/
LOCATION:Bethel South Campus\, 17121 Hwy 69 South\, Tyler\, TX\, 75703\, United States
CATEGORIES:South Campus
GEO:32.231484;-95.3099529
X-APPLE-STRUCTURED-LOCATION;VALUE=URI;X-ADDRESS=Bethel South Campus 17121 Hwy 69 South Tyler TX 75703 United States;X-APPLE-RADIUS=500;X-TITLE=17121 Hwy 69 South:geo:-95.3099529,32.231484
END:VEVENT
BEGIN:VEVENT
DTSTART;TZID=America/Chicago:20251221T180000
DTEND;TZID=America/Chicago:20251221T190000
DTSTAMP:20260422T173929
CREATED:20251203T202619Z
LAST-MODIFIED:20251203T202619Z
UID:10002895-1766340000-1766343600@www.bethelbible.com
SUMMARY:Hope: Christmas Service
DESCRIPTION:Join us for a Christmas Service on December 21st at 6 PM at Bethel Hope. \nQuestions? Please email Victor at victor@bethelbible.com.
URL:https://www.bethelbible.com/event/hope-christmas-service/
LOCATION:Bethel Hope\, 504 W 32nd Street\, Tyler\, TX\, 75702\, United States
CATEGORIES:Hope Campus
END:VEVENT
BEGIN:VEVENT
DTSTART;TZID=America/Chicago:20251217T173000
DTEND;TZID=America/Chicago:20251217T193000
DTSTAMP:20260422T173929
CREATED:20250813T183018Z
LAST-MODIFIED:20250813T183018Z
UID:10002715-1765992600-1765999800@www.bethelbible.com
SUMMARY:Hope: Hope in the Word
DESCRIPTION:Join us for Hope In The Word! An optional meal ($5 a person 6th grade and up\, 5th and below eat free) will be served at 5:45 PM\, and the study will start at 6:15 PM. \n-To register for the meal\, text â€œHOPEDINNERâ€ to (903) 437-4437 orÂ CLICK HERE \n-To register for childcare\, please text â€œHOPECHILDCAREâ€ to (903) 437-4437 or CLICK HERE \nQuestions? Email Victor atÂ victor@bethelbible.com
URL:https://www.bethelbible.com/event/hope-hope-in-the-word/2025-12-17/
LOCATION:Bethel Hope\, 504 W 32nd Street\, Tyler\, TX\, 75702\, United States
CATEGORIES:Hope Campus
END:VEVENT
BEGIN:VEVENT
DTSTART;TZID=America/Chicago:20251217T173000
DTEND;TZID=America/Chicago:20251217T190000
DTSTAMP:20260422T173929
CREATED:20251121T164307Z
LAST-MODIFIED:20251121T164307Z
UID:10002893-1765992600-1765998000@www.bethelbible.com
SUMMARY:South: Church Christmas Party
DESCRIPTION:Everyone is invited on Wednesday\, December 17\, at 5:30 PM to the South Campus Sanctuary for a Christmas Party! We’ll have a Christmas movie\, pizza ($5 per adult / $2 per child)\, and crafts. It’s a great way to slow down and hang out with your church fam before Christmas! We’re also collecting men’s socks to bless those at the HWY 80 Rescue Mission\, so feel free to bring a pair (or two!). To sign up\, just click HERE. Questions? Email Jessie Batson at jessie@bethelbible.com
URL:https://www.bethelbible.com/event/south-church-christmas-party/
LOCATION:Bethel South Campus\, 17121 Hwy 69 South\, Tyler\, TX\, 75703\, United States
GEO:32.231484;-95.3099529
X-APPLE-STRUCTURED-LOCATION;VALUE=URI;X-ADDRESS=Bethel South Campus 17121 Hwy 69 South Tyler TX 75703 United States;X-APPLE-RADIUS=500;X-TITLE=17121 Hwy 69 South:geo:-95.3099529,32.231484
END:VEVENT
BEGIN:VEVENT
DTSTART;TZID=America/Chicago:20251214T183000
DTEND;TZID=America/Chicago:20251214T190000
DTSTAMP:20260422T173929
CREATED:20240911T175213Z
LAST-MODIFIED:20240911T175224Z
UID:10002240-1765737000-1765738800@www.bethelbible.com
SUMMARY:Hope: Women of Hope Prayer Time
DESCRIPTION:Women of Hope Prayer TimeÂ  \nWomen\, join us for a time of prayer on the 2nd Sunday of each month at 6:30 PM on the Hope campus. No registration required.
URL:https://www.bethelbible.com/event/hope-women-of-hope-prayer-time/2025-12-14/
LOCATION:Bethel Hope\, 504 W 32nd Street\, Tyler\, TX\, 75702\, United States
CATEGORIES:Hope Campus
END:VEVENT
BEGIN:VEVENT
DTSTART;TZID=America/Chicago:20251214T170000
DTEND;TZID=America/Chicago:20251214T193000
DTSTAMP:20260422T173929
CREATED:20250813T182130Z
LAST-MODIFIED:20250813T184018Z
UID:10002775-1765731600-1765740600@www.bethelbible.com
SUMMARY:South: Kids Life Group
DESCRIPTION:Kids Life Group is open to all children ages 0-12 years old and is available on the second and fourth Sunday September-November; the second Sunday only in December; the second and fourth Sunday January-April; and the first and third Sunday in May (due to Mother’s Day). Please register by Friday at noon. Drop off begins at 5:00 pm on Sunday. You must pick your kids up no later than 7:30 pm. To register\, CLICK HERE \nCost is $7 per child per meeting. If you need a scholarship\, please click hereÂ to apply. \nIf you have any questions or concerns\, please feel free to email Lindy Britt at lindy@bethelbible.com.
URL:https://www.bethelbible.com/event/south-kids-life-group/2025-12-14/
LOCATION:Bethel South Campus\, 17121 Hwy 69 South\, Tyler\, TX\, 75703\, United States
CATEGORIES:South Campus
GEO:32.231484;-95.3099529
X-APPLE-STRUCTURED-LOCATION;VALUE=URI;X-ADDRESS=Bethel South Campus 17121 Hwy 69 South Tyler TX 75703 United States;X-APPLE-RADIUS=500;X-TITLE=17121 Hwy 69 South:geo:-95.3099529,32.231484
END:VEVENT
BEGIN:VEVENT
DTSTART;TZID=America/Chicago:20251214T090000
DTEND;TZID=America/Chicago:20251214T093000
DTSTAMP:20260422T173929
CREATED:20251001T181259Z
LAST-MODIFIED:20251015T185005Z
UID:10002873-1765702800-1765704600@www.bethelbible.com
SUMMARY:South: Nursery & Elementary Christmas Performance
DESCRIPTION:Join us for a special Christmas performance by our nursery through elementary students at 9 AM on December 14th at the South Campus! On the morning of December 13th\, we will hold a short rehearsal for Preschool at 10Â  AM and Elementary at 10:30 AM.
URL:https://www.bethelbible.com/event/south-nursery-elementary-christmas-performance/
LOCATION:Bethel South Campus\, 17121 Hwy 69 South\, Tyler\, TX\, 75703\, United States
GEO:32.231484;-95.3099529
X-APPLE-STRUCTURED-LOCATION;VALUE=URI;X-ADDRESS=Bethel South Campus 17121 Hwy 69 South Tyler TX 75703 United States;X-APPLE-RADIUS=500;X-TITLE=17121 Hwy 69 South:geo:-95.3099529,32.231484
END:VEVENT
BEGIN:VEVENT
DTSTART;TZID=America/Chicago:20251210T173000
DTEND;TZID=America/Chicago:20251210T193000
DTSTAMP:20260422T173929
CREATED:20250813T183018Z
LAST-MODIFIED:20250813T183018Z
UID:10002714-1765387800-1765395000@www.bethelbible.com
SUMMARY:Hope: Hope in the Word
DESCRIPTION:Join us for Hope In The Word! An optional meal ($5 a person 6th grade and up\, 5th and below eat free) will be served at 5:45 PM\, and the study will start at 6:15 PM. \n-To register for the meal\, text â€œHOPEDINNERâ€ to (903) 437-4437 orÂ CLICK HERE \n-To register for childcare\, please text â€œHOPECHILDCAREâ€ to (903) 437-4437 or CLICK HERE \nQuestions? Email Victor atÂ victor@bethelbible.com
URL:https://www.bethelbible.com/event/hope-hope-in-the-word/2025-12-10/
LOCATION:Bethel Hope\, 504 W 32nd Street\, Tyler\, TX\, 75702\, United States
CATEGORIES:Hope Campus
END:VEVENT
BEGIN:VEVENT
DTSTART;TZID=America/Chicago:20251207T120000
DTEND;TZID=America/Chicago:20251207T200000
DTSTAMP:20260422T173929
CREATED:20251121T163658Z
LAST-MODIFIED:20251121T163740Z
UID:10002892-1765108800-1765137600@www.bethelbible.com
SUMMARY:Christmas on Elm
DESCRIPTION:Screenshot\nChristmas on Elm is back and even better than before! On Sunday\, December 7\, we’re going to have a big ol’ party on the top floor of the Fair Plaza Parking Garage (with working elevators!) directly across from Bethel Downtown and the Foundry\, from 12 PM – 8 PM. There will be community market vendors\, family games\, live music\, and food trucks!
URL:https://www.bethelbible.com/event/christmas-on-elm/
LOCATION:Bethel Downtown\, 202 South Broadway Avenue\, Tyler\, TX\, 75702\, United States
GEO:32.3493789;-95.3002841
X-APPLE-STRUCTURED-LOCATION;VALUE=URI;X-ADDRESS=Bethel Downtown 202 South Broadway Avenue Tyler TX 75702 United States;X-APPLE-RADIUS=500;X-TITLE=202 South Broadway Avenue:geo:-95.3002841,32.3493789
END:VEVENT
BEGIN:VEVENT
DTSTART;TZID=America/Chicago:20251207T100000
DTEND;TZID=America/Chicago:20251207T110000
DTSTAMP:20260422T173929
CREATED:20251121T163235Z
LAST-MODIFIED:20251121T163235Z
UID:10002891-1765101600-1765105200@www.bethelbible.com
SUMMARY:Hope: Bethel Students Bake Sale
DESCRIPTION:Bethel Students Christmas Bake Sale \nOur students are raising funds to go to Colorado for camp this summer. Be sure to stop by the foyer and support their bake sale on December 7th!
URL:https://www.bethelbible.com/event/hope-bethel-students-bake-sale/
LOCATION:Bethel Hope\, 504 W 32nd Street\, Tyler\, TX\, 75702\, United States
CATEGORIES:Hope Campus
END:VEVENT
BEGIN:VEVENT
DTSTART;TZID=America/Chicago:20251204T180000
DTEND;TZID=America/Chicago:20251204T200000
DTSTAMP:20260422T173929
CREATED:20251121T162738Z
LAST-MODIFIED:20251121T162800Z
UID:10002890-1764871200-1764878400@www.bethelbible.com
SUMMARY:South: Bethel Women's Advent Event
DESCRIPTION:December 4th \nLadies\, as the season of Advent draws near\, join us on December 4th from 6-8 PM for a virtual event at Bethel South\, where we’ll enjoy hot chocolate and cookies as we hear from author and teacher\, Kelly Minter. This gathering is an invitation to pause\, to breathe deeply\, open the Scriptures\, and prepare space for Jesus to enter in this season. Free Childcare reservation is available upon registration. To register\, click HERE. \nQuestions? Please email southwbs@bethelbible.com.
URL:https://www.bethelbible.com/event/south-bethel-womens-advent-event/
LOCATION:Bethel South Campus\, 17121 Hwy 69 South\, Tyler\, TX\, 75703\, United States
GEO:32.231484;-95.3099529
X-APPLE-STRUCTURED-LOCATION;VALUE=URI;X-ADDRESS=Bethel South Campus 17121 Hwy 69 South Tyler TX 75703 United States;X-APPLE-RADIUS=500;X-TITLE=17121 Hwy 69 South:geo:-95.3099529,32.231484
END:VEVENT
BEGIN:VEVENT
DTSTART;TZID=America/Chicago:20251203T173000
DTEND;TZID=America/Chicago:20251203T193000
DTSTAMP:20260422T173929
CREATED:20250813T183018Z
LAST-MODIFIED:20250813T183018Z
UID:10002713-1764783000-1764790200@www.bethelbible.com
SUMMARY:Hope: Hope in the Word
DESCRIPTION:Join us for Hope In The Word! An optional meal ($5 a person 6th grade and up\, 5th and below eat free) will be served at 5:45 PM\, and the study will start at 6:15 PM. \n-To register for the meal\, text â€œHOPEDINNERâ€ to (903) 437-4437 orÂ CLICK HERE \n-To register for childcare\, please text â€œHOPECHILDCAREâ€ to (903) 437-4437 or CLICK HERE \nQuestions? Email Victor atÂ victor@bethelbible.com
URL:https://www.bethelbible.com/event/hope-hope-in-the-word/2025-12-03/
LOCATION:Bethel Hope\, 504 W 32nd Street\, Tyler\, TX\, 75702\, United States
CATEGORIES:Hope Campus
END:VEVENT
BEGIN:VEVENT
DTSTART;TZID=America/Chicago:20251126T173000
DTEND;TZID=America/Chicago:20251126T193000
DTSTAMP:20260422T173929
CREATED:20250813T183018Z
LAST-MODIFIED:20250813T183018Z
UID:10002712-1764178200-1764185400@www.bethelbible.com
SUMMARY:Hope: Hope in the Word
DESCRIPTION:Join us for Hope In The Word! An optional meal ($5 a person 6th grade and up\, 5th and below eat free) will be served at 5:45 PM\, and the study will start at 6:15 PM. \n-To register for the meal\, text â€œHOPEDINNERâ€ to (903) 437-4437 orÂ CLICK HERE \n-To register for childcare\, please text â€œHOPECHILDCAREâ€ to (903) 437-4437 or CLICK HERE \nQuestions? Email Victor atÂ victor@bethelbible.com
URL:https://www.bethelbible.com/event/hope-hope-in-the-word/2025-11-26/
LOCATION:Bethel Hope\, 504 W 32nd Street\, Tyler\, TX\, 75702\, United States
CATEGORIES:Hope Campus
END:VEVENT
END:VCALENDAR