BEGIN:VCALENDAR
VERSION:2.0
PRODID:-//Bethel Bible Church - ECPv6.15.20//NONSGML v1.0//EN
CALSCALE:GREGORIAN
METHOD:PUBLISH
X-ORIGINAL-URL:https://www.bethelbible.com
X-WR-CALDESC:Events for Bethel Bible Church
REFRESH-INTERVAL;VALUE=DURATION:PT1H
X-Robots-Tag:noindex
X-PUBLISHED-TTL:PT1H
BEGIN:VTIMEZONE
TZID:America/Chicago
BEGIN:DAYLIGHT
TZOFFSETFROM:-0600
TZOFFSETTO:-0500
TZNAME:CDT
DTSTART:20250309T080000
END:DAYLIGHT
BEGIN:STANDARD
TZOFFSETFROM:-0500
TZOFFSETTO:-0600
TZNAME:CST
DTSTART:20251102T070000
END:STANDARD
BEGIN:DAYLIGHT
TZOFFSETFROM:-0600
TZOFFSETTO:-0500
TZNAME:CDT
DTSTART:20260308T080000
END:DAYLIGHT
BEGIN:STANDARD
TZOFFSETFROM:-0500
TZOFFSETTO:-0600
TZNAME:CST
DTSTART:20261101T070000
END:STANDARD
BEGIN:DAYLIGHT
TZOFFSETFROM:-0600
TZOFFSETTO:-0500
TZNAME:CDT
DTSTART:20270314T080000
END:DAYLIGHT
BEGIN:STANDARD
TZOFFSETFROM:-0500
TZOFFSETTO:-0600
TZNAME:CST
DTSTART:20271107T070000
END:STANDARD
END:VTIMEZONE
BEGIN:VEVENT
DTSTART;TZID=America/Chicago:20260503T150000
DTEND;TZID=America/Chicago:20260503T170000
DTSTAMP:20260420T005810
CREATED:20251208T184454Z
LAST-MODIFIED:20251208T184454Z
UID:10002922-1777820400-1777827600@www.bethelbible.com
SUMMARY:GriefShare
DESCRIPTION:GriefShare is a supportive\, caring group created to help you navigate the grief journey—one step at a time. This group will meet at the South Campus in room C212 on Sunday afternoons from 3-5 PM starting February 15th. Over the course of 12 weeks\, in this safe and welcoming environment\, you’ll receive practical guidance and compassionate encouragement as you move toward healing\, comfort\, and peace of mind under the guidance of the group facilitators\, Greg and Marilyn Stovall. To learn more and register for this group\, please CLICK HERE. Questions? Please email mkcnbt@gmail.com.
URL:https://www.bethelbible.com/event/griefshare/2026-05-03/
LOCATION:Bethel South Campus\, 17121 Hwy 69 South\, Tyler\, TX\, 75703\, United States
GEO:32.231484;-95.3099529
X-APPLE-STRUCTURED-LOCATION;VALUE=URI;X-ADDRESS=Bethel South Campus 17121 Hwy 69 South Tyler TX 75703 United States;X-APPLE-RADIUS=500;X-TITLE=17121 Hwy 69 South:geo:-95.3099529,32.231484
END:VEVENT
BEGIN:VEVENT
DTSTART;TZID=America/Chicago:20260506T173000
DTEND;TZID=America/Chicago:20260506T193000
DTSTAMP:20260420T005810
CREATED:20250813T183018Z
LAST-MODIFIED:20250813T183018Z
UID:10002735-1778088600-1778095800@www.bethelbible.com
SUMMARY:Hope: Hope in the Word
DESCRIPTION:Join us for Hope In The Word! An optional meal ($5 a person 6th grade and up\, 5th and below eat free) will be served at 5:45 PM\, and the study will start at 6:15 PM. \n-To register for the meal\, text â€œHOPEDINNERâ€ to (903) 437-4437 orÂ CLICK HERE \n-To register for childcare\, please text â€œHOPECHILDCAREâ€ to (903) 437-4437 or CLICK HERE \nQuestions? Email Victor atÂ victor@bethelbible.com
URL:https://www.bethelbible.com/event/hope-hope-in-the-word/2026-05-06/
LOCATION:Bethel Hope\, 504 W 32nd Street\, Tyler\, TX\, 75702\, United States
CATEGORIES:Hope Campus
END:VEVENT
BEGIN:VEVENT
DTSTART;TZID=America/Chicago:20260510T150000
DTEND;TZID=America/Chicago:20260510T170000
DTSTAMP:20260420T005810
CREATED:20251208T184454Z
LAST-MODIFIED:20251208T184454Z
UID:10002923-1778425200-1778432400@www.bethelbible.com
SUMMARY:GriefShare
DESCRIPTION:GriefShare is a supportive\, caring group created to help you navigate the grief journey—one step at a time. This group will meet at the South Campus in room C212 on Sunday afternoons from 3-5 PM starting February 15th. Over the course of 12 weeks\, in this safe and welcoming environment\, you’ll receive practical guidance and compassionate encouragement as you move toward healing\, comfort\, and peace of mind under the guidance of the group facilitators\, Greg and Marilyn Stovall. To learn more and register for this group\, please CLICK HERE. Questions? Please email mkcnbt@gmail.com.
URL:https://www.bethelbible.com/event/griefshare/2026-05-10/
LOCATION:Bethel South Campus\, 17121 Hwy 69 South\, Tyler\, TX\, 75703\, United States
GEO:32.231484;-95.3099529
X-APPLE-STRUCTURED-LOCATION;VALUE=URI;X-ADDRESS=Bethel South Campus 17121 Hwy 69 South Tyler TX 75703 United States;X-APPLE-RADIUS=500;X-TITLE=17121 Hwy 69 South:geo:-95.3099529,32.231484
END:VEVENT
BEGIN:VEVENT
DTSTART;TZID=America/Chicago:20260510T183000
DTEND;TZID=America/Chicago:20260510T190000
DTSTAMP:20260420T005810
CREATED:20240911T175213Z
LAST-MODIFIED:20240911T175224Z
UID:10002245-1778437800-1778439600@www.bethelbible.com
SUMMARY:Hope: Women of Hope Prayer Time
DESCRIPTION:Women of Hope Prayer TimeÂ  \nWomen\, join us for a time of prayer on the 2nd Sunday of each month at 6:30 PM on the Hope campus. No registration required.
URL:https://www.bethelbible.com/event/hope-women-of-hope-prayer-time/2026-05-10/
LOCATION:Bethel Hope\, 504 W 32nd Street\, Tyler\, TX\, 75702\, United States
CATEGORIES:Hope Campus
END:VEVENT
BEGIN:VEVENT
DTSTART;TZID=America/Chicago:20260513T173000
DTEND;TZID=America/Chicago:20260513T193000
DTSTAMP:20260420T005810
CREATED:20250813T183018Z
LAST-MODIFIED:20250813T183018Z
UID:10002736-1778693400-1778700600@www.bethelbible.com
SUMMARY:Hope: Hope in the Word
DESCRIPTION:Join us for Hope In The Word! An optional meal ($5 a person 6th grade and up\, 5th and below eat free) will be served at 5:45 PM\, and the study will start at 6:15 PM. \n-To register for the meal\, text â€œHOPEDINNERâ€ to (903) 437-4437 orÂ CLICK HERE \n-To register for childcare\, please text â€œHOPECHILDCAREâ€ to (903) 437-4437 or CLICK HERE \nQuestions? Email Victor atÂ victor@bethelbible.com
URL:https://www.bethelbible.com/event/hope-hope-in-the-word/2026-05-13/
LOCATION:Bethel Hope\, 504 W 32nd Street\, Tyler\, TX\, 75702\, United States
CATEGORIES:Hope Campus
END:VEVENT
BEGIN:VEVENT
DTSTART;TZID=America/Chicago:20260520T173000
DTEND;TZID=America/Chicago:20260520T193000
DTSTAMP:20260420T005810
CREATED:20250813T183018Z
LAST-MODIFIED:20250813T183018Z
UID:10002737-1779298200-1779305400@www.bethelbible.com
SUMMARY:Hope: Hope in the Word
DESCRIPTION:Join us for Hope In The Word! An optional meal ($5 a person 6th grade and up\, 5th and below eat free) will be served at 5:45 PM\, and the study will start at 6:15 PM. \n-To register for the meal\, text â€œHOPEDINNERâ€ to (903) 437-4437 orÂ CLICK HERE \n-To register for childcare\, please text â€œHOPECHILDCAREâ€ to (903) 437-4437 or CLICK HERE \nQuestions? Email Victor atÂ victor@bethelbible.com
URL:https://www.bethelbible.com/event/hope-hope-in-the-word/2026-05-20/
LOCATION:Bethel Hope\, 504 W 32nd Street\, Tyler\, TX\, 75702\, United States
CATEGORIES:Hope Campus
END:VEVENT
BEGIN:VEVENT
DTSTART;TZID=America/Chicago:20260527T173000
DTEND;TZID=America/Chicago:20260527T193000
DTSTAMP:20260420T005810
CREATED:20250813T183018Z
LAST-MODIFIED:20250813T183018Z
UID:10002738-1779903000-1779910200@www.bethelbible.com
SUMMARY:Hope: Hope in the Word
DESCRIPTION:Join us for Hope In The Word! An optional meal ($5 a person 6th grade and up\, 5th and below eat free) will be served at 5:45 PM\, and the study will start at 6:15 PM. \n-To register for the meal\, text â€œHOPEDINNERâ€ to (903) 437-4437 orÂ CLICK HERE \n-To register for childcare\, please text â€œHOPECHILDCAREâ€ to (903) 437-4437 or CLICK HERE \nQuestions? Email Victor atÂ victor@bethelbible.com
URL:https://www.bethelbible.com/event/hope-hope-in-the-word/2026-05-27/
LOCATION:Bethel Hope\, 504 W 32nd Street\, Tyler\, TX\, 75702\, United States
CATEGORIES:Hope Campus
END:VEVENT
END:VCALENDAR